BEGIN:VCALENDAR
VERSION:2.0
PRODID:-//PBA • Palm Beach Atlantic University - ECPv6.15.20//NONSGML v1.0//EN
CALSCALE:GREGORIAN
METHOD:PUBLISH
X-ORIGINAL-URL:https://www.pba.edu
X-WR-CALDESC:Events for PBA • Palm Beach Atlantic University
REFRESH-INTERVAL;VALUE=DURATION:PT1H
X-Robots-Tag:noindex
X-PUBLISHED-TTL:PT1H
BEGIN:VTIMEZONE
TZID:America/New_York
BEGIN:DAYLIGHT
TZOFFSETFROM:-0500
TZOFFSETTO:-0400
TZNAME:EDT
DTSTART:20230312T070000
END:DAYLIGHT
BEGIN:STANDARD
TZOFFSETFROM:-0400
TZOFFSETTO:-0500
TZNAME:EST
DTSTART:20231105T060000
END:STANDARD
BEGIN:DAYLIGHT
TZOFFSETFROM:-0500
TZOFFSETTO:-0400
TZNAME:EDT
DTSTART:20240310T070000
END:DAYLIGHT
BEGIN:STANDARD
TZOFFSETFROM:-0400
TZOFFSETTO:-0500
TZNAME:EST
DTSTART:20241103T060000
END:STANDARD
BEGIN:DAYLIGHT
TZOFFSETFROM:-0500
TZOFFSETTO:-0400
TZNAME:EDT
DTSTART:20250309T070000
END:DAYLIGHT
BEGIN:STANDARD
TZOFFSETFROM:-0400
TZOFFSETTO:-0500
TZNAME:EST
DTSTART:20251102T060000
END:STANDARD
BEGIN:DAYLIGHT
TZOFFSETFROM:-0500
TZOFFSETTO:-0400
TZNAME:EDT
DTSTART:20260308T070000
END:DAYLIGHT
BEGIN:STANDARD
TZOFFSETFROM:-0400
TZOFFSETTO:-0500
TZNAME:EST
DTSTART:20261101T060000
END:STANDARD
BEGIN:DAYLIGHT
TZOFFSETFROM:-0500
TZOFFSETTO:-0400
TZNAME:EDT
DTSTART:20270314T070000
END:DAYLIGHT
BEGIN:STANDARD
TZOFFSETFROM:-0400
TZOFFSETTO:-0500
TZNAME:EST
DTSTART:20271107T060000
END:STANDARD
END:VTIMEZONE
BEGIN:VEVENT
DTSTART;TZID=America/New_York:20260221T090000
DTEND;TZID=America/New_York:20260221T110000
DTSTAMP:20260422T071352
CREATED:20260123T192045Z
LAST-MODIFIED:20260212T200339Z
UID:10000960-1771664400-1771671600@www.pba.edu
SUMMARY:Navigating Narcissism: Narcissistic Abuse & Relationships
DESCRIPTION:Join us for a presentation on Navigating Narcissism: Narcissistic Abuse & Relationships\, featuring Bill Parker\, JD\, LMHC; Elizabeth Wilson\, LMHC; Dr. Steven Vensel; and Mary Tatum\, LMHC. \nRegistration is free\, and breakfast will be provided. \n\n\n\n\nRegister Here\n\n\n\n\n 
URL:https://www.pba.edu/event/narcissistic-relationships-and-abuse/
LOCATION:Weyenberg Center at Palm Beach Atlantic University\, Weyenberg Center\, West Palm Beach\, FL 33401\, West Palm Beach\, FL\, 33401
END:VEVENT
BEGIN:VEVENT
DTSTART;TZID=America/New_York:20260210T180000
DTEND;TZID=America/New_York:20260210T193000
DTSTAMP:20260422T071352
CREATED:20260128T194809Z
LAST-MODIFIED:20260209T150846Z
UID:10000963-1770746400-1770751800@www.pba.edu
SUMMARY:Turning Point USA- Riley Gaines & Seth Dillon
DESCRIPTION:Pick Up The Mic with Riley Gaines and Seth Dillon \nRegister Here \n  \n 
URL:https://www.pba.edu/event/turning-point-usa-riley-gaines-seth-dillon/
LOCATION:Weyenberg Center at Palm Beach Atlantic University\, Weyenberg Center\, West Palm Beach\, FL 33401\, West Palm Beach\, FL\, 33401
CATEGORIES:Featured
END:VEVENT
BEGIN:VEVENT
DTSTART;TZID=America/New_York:20260117T090000
DTEND;TZID=America/New_York:20260117T110000
DTSTAMP:20260422T071352
CREATED:20251106T235005Z
LAST-MODIFIED:20251107T132112Z
UID:10000917-1768640400-1768647600@www.pba.edu
SUMMARY:Anti-Human Trafficking: Methods for Prevention and Solutions for Clinicians
DESCRIPTION:Join us as Bonnie Jo Daniels\, LMHC\, presents on Anti-Human Trafficking: Methods for Prevention and Solutions for Clinicians. Bonnie has dedicated 15 years to fighting anti-human trafficking and trauma\, with a background as a community relations specialist advocating for social justice\, particularly in anti-human trafficking initiatives. \nFree event and breakfast will be provided.
URL:https://www.pba.edu/event/anti-human-trafficking-methods-for-prevention-and-solutions-for-clinicians/
LOCATION:Weyenberg Center at Palm Beach Atlantic University\, Weyenberg Center\, West Palm Beach\, FL 33401\, West Palm Beach\, FL\, 33401
ATTACH;FMTTYPE=image/jpeg:https://www.pba.edu/wp-content/uploads/2025/11/BonnieJo-e1762472991445.jpg
END:VEVENT
BEGIN:VEVENT
DTSTART;TZID=America/New_York:20251108T090000
DTEND;TZID=America/New_York:20251108T110000
DTSTAMP:20260422T071352
CREATED:20251015T135010Z
LAST-MODIFIED:20251022T143850Z
UID:10000914-1762592400-1762599600@www.pba.edu
SUMMARY:OCD and Scrupulosity
DESCRIPTION:Join us as Dr. Jeremy Bonta\, Director of the Counselor Education program\, presents on OCD and Scrupulosity\, along with Charles Haley and Jacob Lowinger\, students in the M.S. in Clinical Mental Health Counseling program. \nThis event is free\, and breakfast will be provided. \nRegister Here
URL:https://www.pba.edu/event/ocd-and-scrupulosity/
LOCATION:Weyenberg Center at Palm Beach Atlantic University\, Weyenberg Center\, West Palm Beach\, FL 33401\, West Palm Beach\, FL\, 33401
CATEGORIES:Tree of Life
ATTACH;FMTTYPE=image/jpeg:https://www.pba.edu/wp-content/uploads/2025/10/image002-3.jpg
END:VEVENT
BEGIN:VEVENT
DTSTART;TZID=America/New_York:20251018T090000
DTEND;TZID=America/New_York:20251018T230000
DTSTAMP:20260422T071352
CREATED:20250829T174837Z
LAST-MODIFIED:20250929T131919Z
UID:10000887-1760778000-1760828400@www.pba.edu
SUMMARY:Continued Learning Courses with the Counselor Education Program
DESCRIPTION:Join us as Pastor Todd Mullins from Christ Fellowship discusses his latest book\, “Don’t Let Doubt Take You Out: Replacing Fear and Doubt with Faith and Truth\,” and offers a clinical perspective on practical issues. \nFree admission and breakfast  \nRegister Here \n 
URL:https://www.pba.edu/event/continue-learning-courses-with-the-counselor-education-program/
LOCATION:Weyenberg Center at Palm Beach Atlantic University\, Weyenberg Center\, West Palm Beach\, FL 33401\, West Palm Beach\, FL\, 33401
CATEGORIES:Featured
ATTACH;FMTTYPE=image/jpeg:https://www.pba.edu/wp-content/uploads/2025/08/ToddMullinsHeadshot-1-scaled-e1758806734786.jpg
END:VEVENT
BEGIN:VEVENT
DTSTART;TZID=America/New_York:20251002T183000
DTEND;TZID=America/New_York:20251004T170000
DTSTAMP:20260422T071352
CREATED:20250724T163629Z
LAST-MODIFIED:20250919T183915Z
UID:10000855-1759429800-1759597200@www.pba.edu
SUMMARY:Voices for Change Preaching Festival
DESCRIPTION:Join us for Palm Beach Atlantic University’s first annual Preaching Festival! Experience powerful messages from Dr. Matthew Kim (Baylor)\, Dr. Karen Reed (PBA)\, and PBA students\, including multilingual preaching in English\, Spanish\, and Kreyol—with live translation available. The Preaching Festival will also feature a variety of breakout sessions conducted by seasoned experts\, opportunities for local preachers to share their sermons\, inspiring worship services\, and the induction of the first members of the Florida College of Preachers. Don’t miss this inspiring community event! \nRegister Here \n  \n 
URL:https://www.pba.edu/event/voices-for-change-preaching-festival/
LOCATION:Weyenberg Center at Palm Beach Atlantic University\, Weyenberg Center\, West Palm Beach\, FL 33401\, West Palm Beach\, FL\, 33401
CATEGORIES:Ministry
END:VEVENT
BEGIN:VEVENT
DTSTART;TZID=America/New_York:20250919T090000
DTEND;TZID=America/New_York:20250919T140000
DTSTAMP:20260422T071352
CREATED:20250912T135726Z
LAST-MODIFIED:20250912T135726Z
UID:10000896-1758272400-1758290400@www.pba.edu
SUMMARY:Engineering and Computer Science Day
DESCRIPTION:An event for prospective families to hear more about our Engineering and Computer Sciences and what they have to offer to students. \nRegister Here \n 
URL:https://www.pba.edu/event/engineering-and-computer-science-day/
LOCATION:DeSantis Family Chapel\, 300 Okeechobee Blvd\, West Palm Beach\, FL\, United States
CATEGORIES:Admissions
ATTACH;FMTTYPE=image/jpeg:https://www.pba.edu/wp-content/uploads/2023/11/Engineering-Program-Boasting-Massive-Potential.jpg
END:VEVENT
BEGIN:VEVENT
DTSTART;TZID=America/New_York:20250222T090000
DTEND;TZID=America/New_York:20250222T113000
DTSTAMP:20260422T071352
CREATED:20250131T154940Z
LAST-MODIFIED:20250131T154940Z
UID:10000829-1740214800-1740223800@www.pba.edu
SUMMARY:Continued Learning Courses with the Counselor Education Department
DESCRIPTION:12 Rules for Good Mental Health\, Optimal Metabolism and Peak Performance with Dr. Phil Henry  \nIn Dr. Henry’s latest research\, he will help the audience understand the complexities and correlations between mental health\, nutrition\, and metabolism.  Guest speakers include President Dr. Debra A. Schwinn\, Dr. Chris Hickey and Laura Bishop \nBreakfast is FREE. \nRegister Here \n 
URL:https://www.pba.edu/event/continued-learning-courses-with-the-counselor-education-department/
LOCATION:Weyenberg Center at Palm Beach Atlantic University\, Weyenberg Center\, West Palm Beach\, FL 33401\, West Palm Beach\, FL\, 33401
CATEGORIES:Featured
END:VEVENT
BEGIN:VEVENT
DTSTART;TZID=America/New_York:20241204T180000
DTEND;TZID=America/New_York:20241204T193000
DTSTAMP:20260422T071352
CREATED:20240911T114731Z
LAST-MODIFIED:20241011T164256Z
UID:10000736-1733335200-1733340600@www.pba.edu
SUMMARY:Freidheim Fellows Presentation
DESCRIPTION:Join us for the annual Freidheim Fellows Presentation.  Freidheim fellows are upperclassmen that concentrate their research study on a topic of great public importance that culminates in a year-end published paper.  Anna Buchanan and Jonathan Snyder are the 2023-2024 Freidheim Fellows presenting their research on their projects. \nRegister Here\n \n \nAnna Buchanan\nTopic:  Civil Asset Forfeiture in the US \n  \n \nJonathan Snyder\nTopic:  Strategies for Cost Reduction in the U.S. Healthcare System \n  \nLearn More Here
URL:https://www.pba.edu/event/freidheim-fellows-presentation/
LOCATION:Weyenberg Center at Palm Beach Atlantic University\, Weyenberg Center\, West Palm Beach\, FL 33401\, West Palm Beach\, FL\, 33401
CATEGORIES:Featured,LeMieux Center
ATTACH;FMTTYPE=image/jpeg:https://www.pba.edu/wp-content/uploads/2024/09/Friedman-Fellows-Presentation-10-24-23_21-3-1.jpg
END:VEVENT
END:VCALENDAR