BEGIN:VCALENDAR
VERSION:2.0
PRODID:-//PBA • Palm Beach Atlantic University - ECPv6.15.20//NONSGML v1.0//EN
CALSCALE:GREGORIAN
METHOD:PUBLISH
X-ORIGINAL-URL:https://www.pba.edu
X-WR-CALDESC:Events for PBA • Palm Beach Atlantic University
REFRESH-INTERVAL;VALUE=DURATION:PT1H
X-Robots-Tag:noindex
X-PUBLISHED-TTL:PT1H
BEGIN:VTIMEZONE
TZID:America/New_York
BEGIN:DAYLIGHT
TZOFFSETFROM:-0500
TZOFFSETTO:-0400
TZNAME:EDT
DTSTART:20230312T070000
END:DAYLIGHT
BEGIN:STANDARD
TZOFFSETFROM:-0400
TZOFFSETTO:-0500
TZNAME:EST
DTSTART:20231105T060000
END:STANDARD
BEGIN:DAYLIGHT
TZOFFSETFROM:-0500
TZOFFSETTO:-0400
TZNAME:EDT
DTSTART:20240310T070000
END:DAYLIGHT
BEGIN:STANDARD
TZOFFSETFROM:-0400
TZOFFSETTO:-0500
TZNAME:EST
DTSTART:20241103T060000
END:STANDARD
BEGIN:DAYLIGHT
TZOFFSETFROM:-0500
TZOFFSETTO:-0400
TZNAME:EDT
DTSTART:20250309T070000
END:DAYLIGHT
BEGIN:STANDARD
TZOFFSETFROM:-0400
TZOFFSETTO:-0500
TZNAME:EST
DTSTART:20251102T060000
END:STANDARD
BEGIN:DAYLIGHT
TZOFFSETFROM:-0500
TZOFFSETTO:-0400
TZNAME:EDT
DTSTART:20260308T070000
END:DAYLIGHT
BEGIN:STANDARD
TZOFFSETFROM:-0400
TZOFFSETTO:-0500
TZNAME:EST
DTSTART:20261101T060000
END:STANDARD
END:VTIMEZONE
BEGIN:VEVENT
DTSTART;TZID=America/New_York:20250426T193000
DTEND;TZID=America/New_York:20250426T193000
DTSTAMP:20260421T082743
CREATED:20250116T220431Z
LAST-MODIFIED:20250116T220522Z
UID:10000818-1745695800-1745695800@www.pba.edu
SUMMARY:Jazz Ensemble
DESCRIPTION:Join us for a mesmerizing evening where rhythm meets soul on stage. Immerse yourself in the smooth melodies\nand intricate harmonies that define this timeless genre. Prepare to be captivated by a dynamic blend of jazz\nstandards and contemporary favorites\, from impassioned ballads to upbeat swing. Directed by Sam Broomell and\nSonia Santiago. Allow our talented musicians to transport you to a world where improvisation and mellifluous harmonies reign supreme.\n$15 general admission; PBA students and those 18 & under free \nhttps://www.eventbrite.com/cc/pba-college-of-the-arts-145489
URL:https://www.pba.edu/event/jazz-ensemble/
LOCATION:Vera Lea Rinker Hall\, 326 Acacia Rd\, West Palm Beach\, FL\, United States
CATEGORIES:Performances
END:VEVENT
BEGIN:VEVENT
DTSTART;TZID=America/New_York:20250329T193000
DTEND;TZID=America/New_York:20250329T213000
DTSTAMP:20260421T082743
CREATED:20250116T215054Z
LAST-MODIFIED:20250214T145606Z
UID:10000810-1743276600-1743283800@www.pba.edu
SUMMARY:An evening with Bill Mays and his music
DESCRIPTION:Join the Bill Mays Sextet as they team up with PBA singers for an exciting premiere of Mays’ brand-new Bill’s “Palm Beach Atlantic Suite”\, along with other original compositions! \n$15 general admission; PBA students and those 18 & under free \nhttps://www.eventbrite.com/cc/pba-college-of-the-arts-145489
URL:https://www.pba.edu/event/an-evening-with-bill-mays-and-his-music/
LOCATION:Vera Lea Rinker Hall\, 326 Acacia Rd\, West Palm Beach\, FL\, United States
CATEGORIES:Performances
END:VEVENT
BEGIN:VEVENT
DTSTART;TZID=America/New_York:20250328T193000
DTEND;TZID=America/New_York:20250328T213000
DTSTAMP:20260421T082743
CREATED:20250116T214906Z
LAST-MODIFIED:20250116T214906Z
UID:10000809-1743190200-1743197400@www.pba.edu
SUMMARY:Faculty Recital: Jackie Yong\, pianist
DESCRIPTION:Join our piano faculty Jackie Yong and get to know “HIStory” through hymn arrangements for piano and his testimony in Christ. \n$15 general admission; PBA students and those 18 & under free \nhttps://www.eventbrite.com/cc/pba-college-of-the-arts-145489
URL:https://www.pba.edu/event/faculty-recital-jackie-yong-pianist/
LOCATION:Vera Lea Rinker Hall\, 326 Acacia Rd\, West Palm Beach\, FL\, United States
CATEGORIES:Performances
END:VEVENT
BEGIN:VEVENT
DTSTART;TZID=America/New_York:20250322T150000
DTEND;TZID=America/New_York:20250322T210000
DTSTAMP:20260421T082743
CREATED:20250116T214719Z
LAST-MODIFIED:20250204T163740Z
UID:10000808-1742655600-1742677200@www.pba.edu
SUMMARY:Student Choreography Showcase
DESCRIPTION:The PBA Student Choreography Showcase features original choreographic works in a diverse array of styles and genres created by Palm Beach Atlantic University students. This vibrant concert highlights the students’ creative gifts and talents in choreography\, lighting design\, stage management\, and event production. Don’t miss this opportunity to witness and celebrate the innovation of our students and the future of the arts! \n\n$15 general admission; PBA students and those 18 & under free\n\nhttps://www.eventbrite.com/cc/pba-college-of-the-arts-145489
URL:https://www.pba.edu/event/student-choreography-showcase/
LOCATION:Vera Lea Rinker Hall\, 326 Acacia Rd\, West Palm Beach\, FL\, United States
CATEGORIES:Performances
END:VEVENT
BEGIN:VEVENT
DTSTART;TZID=America/New_York:20250305T193000
DTEND;TZID=America/New_York:20250305T213000
DTSTAMP:20260421T082743
CREATED:20250116T214246Z
LAST-MODIFIED:20250116T214246Z
UID:10000807-1741203000-1741210200@www.pba.edu
SUMMARY:Faculty Recital: German Marcano\, cellist
DESCRIPTION:Join our new cello faculty Dr. German Marcano and immerse yourself in a wonderful program dedicated to the work of Johann Sebastian Bach. \n\n$15 general admission; PBA students and those 18 & under free\n\nhttps://www.eventbrite.com/cc/pba-college-of-the-arts-145489
URL:https://www.pba.edu/event/faculty-recital-german-marcano-cellist/
LOCATION:Vera Lea Rinker Hall\, 326 Acacia Rd\, West Palm Beach\, FL\, United States
CATEGORIES:Performances
END:VEVENT
BEGIN:VEVENT
DTSTART;TZID=America/New_York:20250207T193000
DTEND;TZID=America/New_York:20250207T213000
DTSTAMP:20260421T082743
CREATED:20250114T193956Z
LAST-MODIFIED:20250204T163414Z
UID:10000796-1738956600-1738963800@www.pba.edu
SUMMARY:Guest Piano Recital by Victor Rosenbaum
DESCRIPTION:Come and witness international acclaim American pianist\, Victor Rosenbaum\, an artist whose playing has been called “magisterial” with a “piano touch [that] encompasses bravura\, delicacy\, and many variations between”.\n$15 general admission; PBA students and those 18 & under free \nhttps://www.eventbrite.com/cc/pba-college-of-the-arts-145489
URL:https://www.pba.edu/event/guest-piano-recital-by-victor-rosenbaum/
LOCATION:Vera Lea Rinker Hall\, 326 Acacia Rd\, West Palm Beach\, FL\, United States
CATEGORIES:Performances
END:VEVENT
BEGIN:VEVENT
DTSTART;TZID=America/New_York:20250207T080000
DTEND;TZID=America/New_York:20250208T170000
DTSTAMP:20260421T082743
CREATED:20241218T182659Z
LAST-MODIFIED:20250204T163343Z
UID:10000779-1738915200-1739034000@www.pba.edu
SUMMARY:2025 PBA Young Artist Piano Competition
DESCRIPTION:Important Dates \nApplication Deadline:\nJanuary 20\, 2025 \n  \nPRIZES \n1st Prize $14\,500\nManfred and Trudy Bung Scholarship* $12\,000 and $2\,500 cash \n2nd Prize $11\,500\nSandra Houle Memorial Scholarship* $10\,000 and $1\,500 cash \n3rd Prize $9\,000\nMarlene Woodward-Cooper Scholarship* $8\,000 and $1\,000 cash \nHonorable Mentions: At judges’ discretion\, participation in the afternoon masterclass and certificate.\n*Scholarship dependent upon acceptance to and enrollment at Palm Beach Atlantic University when eligible \n  \nOur Judges\nThis year we are thrilled to announce the judges for the competition. Hosted by PBA the panel includes our very own\, Dr. Jackie Yong and we welcome this year’s guest artist\, Victor Rosenbaum. \nVictor Rosenbaum has performed as a soloist and chamber musician across the U.S.\, Europe\, Asia\, Israel\, Brazil\, and Russia in renowned venues like Tully Hall in New York and the Hermitage in St. Petersburg. He has collaborated with distinguished artists such as Leonard Rose\, Paul Katz\, and the Brentano and Cleveland String Quartets\, and has appeared at prestigious festivals including Tanglewood\, the Heifetz Institute\, and the International Music Seminar in Vienna. In addition to his focus on classical repertoire by composers like Haydn\, Mozart\, and Brahms\, he has premiered works by contemporary composers like John Harbison and Norman Dinerstein. A versatile musician\, Rosenbaum is also a composer and conductor\, and a respected educator at the New England Conservatory since 1967\, where he chaired the piano department\, as well as at Mannes School of Music and other institutions worldwide. He served as Director and President of the Longy School of Music from 1985 to 2001. \nDr. Jackie Yong is an internationally-recognized scholar-pianist and pedagogue\, Dr. Yong\, achieved both Licentiate and Associate Performance Diploma accredited by Trinity College of London. He has won top prizes in the Rockwood Piano Competition\, Asia-Open International Piano Competition\, Charleston International Piano Competition\, ASWARA International Piano Competition\, and the Young Person’s Piano Competition. As a scholar\, Dr. Yong has been presenting and performing at CMS\, MTNA and NCKP conferences. He is a two-time winner of the David Z. Kushner Paper Award in CMS Regional Conference. Dr. Yong is also a member of Pi Kappa Lambda and Phi Kappa Phi honor society. Dr. Yong is an MTNA certified adjudicator where he has adjudicated the Tallahassee Sonata and Sonatina Festival and the Tallahassee Student Day since 2008. Doctor of Music degree in piano performance\, Florida State University Certificates in piano pedagogy\, music theory pedagogy and college teaching. \nHow to Register for the Competition\n1. Please review the details and requirements of the competition below. \n2. With all materials and video links (YouTube / Vimeo) ready\, click below and begin the application process under “Apply Now.” \n3. Once you have completed the application form\, submit your non-refundable\, $50 application fee through Eventbrite by clicking below. Your application will not be processed nor accepted until the fee has been submitted. \nApply Now \nSubmit Application Fee \nImportant Information\nEligibility Details \n1. All participants must be 15 to 18 years of age at the time of the competition. \n2. The 2025 PBA Piano Competition will be open to a limited number of accepted finalists. \n3. The application deadline is 11:59 p.m.\, January 6\, 2025 \n4. Application fee is $50 \n5. Previous first-prize winners are not eligible to compete again. \n6. Applicants must submit a prescreening video comprising two contrasting compositions which showcase the applicants’ abilities. \n7. Finalists shall prepare 20 minutes of music including two of the following four styles: Baroque\, Classical\, Romantic\, Impressionist/Contemporary. All repertoire must be performed from memory. Performances may be interrupted without penalty for the sake of time. \nSchedule of Events\nDistinguished Artist Recital\nVictor Rosenbaum\, Piano\n7:30 p.m. Friday\, Feb. 7\, 2025 \nYoung Artist Piano Competition\nSaturday\, Feb. 8\, 2025\n8:30 a.m. – 12:30 p.m. Piano Competition\n2 – 4 p.m. Masterclasses with the judges \nYoung Artist Piano Competition Winners’ Recital\n7:30 p.m. Saturday\, Feb. 8\nReception to follow\nAll rights to audio/video recordings or photographs during the competition belong to Palm Beach Atlantic University.
URL:https://www.pba.edu/event/2025-pba-young-artist-piano-competition/
LOCATION:Vera Lea Rinker Hall\, 326 Acacia Rd\, West Palm Beach\, FL\, United States
CATEGORIES:Performances
END:VEVENT
BEGIN:VEVENT
DTSTART;VALUE=DATE:20250207
DTEND;VALUE=DATE:20250209
DTSTAMP:20260421T082743
CREATED:20250114T193750Z
LAST-MODIFIED:20250114T193750Z
UID:10000795-1738886400-1739059199@www.pba.edu
SUMMARY:Young Artist Piano Festival
DESCRIPTION:PBA’s College of the Arts opens its doors to young pianists nationwide\, ages 15-18\, for our annual piano competition. Offering significant scholarship and cash prizes to three winners\, you won’t want to miss edge-ofyour seat contest. The weekend’s exchange will include an opening recital by Victor Rosenbaum\, masterclasses by competition judges\, including Keyboard Division Coordinator\, Dr. Jackie Yong\, and a celebratory Closing Recital with winners.
URL:https://www.pba.edu/event/young-artist-piano-festival-2/
LOCATION:Vera Lea Rinker Hall\, 326 Acacia Rd\, West Palm Beach\, FL\, United States
CATEGORIES:Performances
END:VEVENT
BEGIN:VEVENT
DTSTART;TZID=America/New_York:20250131T183000
DTEND;TZID=America/New_York:20250131T183000
DTSTAMP:20260421T082743
CREATED:20250115T192607Z
LAST-MODIFIED:20250115T192812Z
UID:10000804-1738348200-1738348200@www.pba.edu
SUMMARY:Preparatory Department Faculty Recital: Banyan Trio
DESCRIPTION:Joseph Adkins\, violin; Kelsey Lin\, viola and Joseph Goering\, cello. \nExploring the sounds from across the sea with Cras\, Sibelius and Boccherini. \nAdmission is free. Tickets required. \nClick Here To Get Your Ticket
URL:https://www.pba.edu/event/preparatory-department-faculty-recital-banyan-trio/
LOCATION:Vera Lea Rinker Hall\, 326 Acacia Rd\, West Palm Beach\, FL\, United States
CATEGORIES:Performances
ATTACH;FMTTYPE=image/png:https://www.pba.edu/wp-content/uploads/2025/01/Banyan-Trio.png
END:VEVENT
BEGIN:VEVENT
DTSTART;TZID=America/New_York:20241207T193000
DTEND;TZID=America/New_York:20241207T193000
DTSTAMP:20260421T082743
CREATED:20240822T170846Z
LAST-MODIFIED:20240918T170502Z
UID:10000698-1733599800-1733599800@www.pba.edu
SUMMARY:Chamber Music
DESCRIPTION:An Evening of Diverse Chamber Music including string and piano Trio’s\, Quartets and Quintets\, Percussion and Brass Ensembles. \n$15 general admission; PBA students and those under 18 free. \nRegistration coming soon. \nOther CARTS Events
URL:https://www.pba.edu/event/chamber-music-2/
LOCATION:Vera Lea Rinker Hall\, 326 Acacia Rd\, West Palm Beach\, FL\, United States
CATEGORIES:Performances
END:VEVENT
BEGIN:VEVENT
DTSTART;TZID=America/New_York:20241202T193000
DTEND;TZID=America/New_York:20241202T193000
DTSTAMP:20260421T082743
CREATED:20240822T170555Z
LAST-MODIFIED:20240822T170555Z
UID:10000696-1733167800-1733167800@www.pba.edu
SUMMARY:Pop Rock Ensemble
DESCRIPTION:Join us for an unforgettable evening as the Pop Rock Ensemble kicks off the holiday season with a spectacular concert! Celebrate all your favorite holiday classics with a modern twist\, brought to life by the electrifying energy and musical prowess of the Pop Rock Ensembles. Directed by Sean Radford & Sonia Santiago. Bring your family and friends for a night of music\, joy and festive fun. \n$15 general admission; PBA students  \nand those under 18 free.
URL:https://www.pba.edu/event/pop-rock-ensemble-2/
LOCATION:Vera Lea Rinker Hall\, 326 Acacia Rd\, West Palm Beach\, FL\, United States
CATEGORIES:Performances
END:VEVENT
BEGIN:VEVENT
DTSTART;TZID=America/New_York:20241122T193000
DTEND;TZID=America/New_York:20241124T170000
DTSTAMP:20260421T082743
CREATED:20240822T170343Z
LAST-MODIFIED:20240822T170343Z
UID:10000694-1732303800-1732467600@www.pba.edu
SUMMARY:Opera: Lovers\, Rogues and Fools  (The Good\, the Bad and the “Not-so-bad”) 
DESCRIPTION:7:30 p.m. Friday\, November 22  \n3 p.m. Sunday\, November 24 \nDirected by S. Mark Aliapoulios \nJoin us at the PBA Opera Workshop for two engaging performances that highlight scenes from both renowned and rare operas. Expect to be charmed\, entertained and thoroughly delighted! \n$15 general admission; PBA students and those under 18 free
URL:https://www.pba.edu/event/opera-lovers-rogues-and-fools-the-good-the-bad-and-the-not-so-bad/
LOCATION:Vera Lea Rinker Hall\, 326 Acacia Rd\, West Palm Beach\, FL\, United States
CATEGORIES:Performances
END:VEVENT
BEGIN:VEVENT
DTSTART;TZID=America/New_York:20241109T193000
DTEND;TZID=America/New_York:20241109T210000
DTSTAMP:20260421T082743
CREATED:20240904T010205Z
LAST-MODIFIED:20240904T010205Z
UID:10000710-1731180600-1731186000@www.pba.edu
SUMMARY:In the Open Air: The Power of Love\, Death\, and Exile
DESCRIPTION:Liana Branscome – violin\nBeiyao Ji – piano\nHelen K. Persson Recital Hall\nUnderwritten by the Preparatory Department \n$15 general admission; PBA students and those 18 & under free \nRegister Now
URL:https://www.pba.edu/event/in-the-open-air-the-power-of-love-death-and-exile/
LOCATION:Vera Lea Rinker Hall\, 326 Acacia Rd\, West Palm Beach\, FL\, United States
CATEGORIES:Performances
END:VEVENT
BEGIN:VEVENT
DTSTART;TZID=America/New_York:20241102T150000
DTEND;TZID=America/New_York:20241102T210000
DTSTAMP:20260421T082743
CREATED:20240821T210351Z
LAST-MODIFIED:20241101T141928Z
UID:10000681-1730559600-1730581200@www.pba.edu
SUMMARY:Student Choreography Showcase   
DESCRIPTION:3 and 7 p.m. Saturday\, November 2   \nThe Student Choreography Showcase features original compositions by student choreographers from Palm Beach Atlantic University. This concert\, showcasing a wide range of choreographic works\, is designed\, produced\, performed and managed by PBA students. Join us for this creative and innovative performance\, featuring aspiring dance artists from PBA who represent the future of the arts. \n$15 general admission; PBA students and those under 18 free \n  \nBuy Tickets
URL:https://www.pba.edu/event/student-choreography-showcase-3/
LOCATION:Vera Lea Rinker Hall\, 326 Acacia Rd\, West Palm Beach\, FL\, United States
CATEGORIES:Dance,Performances
END:VEVENT
BEGIN:VEVENT
DTSTART;TZID=America/New_York:20241025T193000
DTEND;TZID=America/New_York:20241025T210000
DTSTAMP:20260421T082743
CREATED:20240904T005752Z
LAST-MODIFIED:20240904T005823Z
UID:10000709-1729884600-1729890000@www.pba.edu
SUMMARY:PBA Jazz Ensemble
DESCRIPTION:Enjoy beloved jazz standards reinterpreted with a contemporary twist\, featuring smooth\, sophisticated instrumentals and dynamic vocals. Experience an enchanting evening of music as the PBA Jazz Ensemble and Vocal Jazz Group present a night of Jazz Standards. Be mesmerized by stunning solo performances that showcase the incredible talent and versatility of our musicians. Directed by Sam Broomell and Sonia Santiago. Let the timeless elegance of jazz wash over you\, delight in fresh arrangements and captivating performances that will have you dancing in the aisles. \n$15 general admission; PBA students and those 18 & under free \nRegister Now
URL:https://www.pba.edu/event/pba-jazz-ensemble-3/
LOCATION:Vera Lea Rinker Hall\, 326 Acacia Rd\, West Palm Beach\, FL\, United States
CATEGORIES:Performances
END:VEVENT
BEGIN:VEVENT
DTSTART;TZID=America/New_York:20241005T090000
DTEND;TZID=America/New_York:20241005T150000
DTSTAMP:20260421T082743
CREATED:20240822T165319Z
LAST-MODIFIED:20240912T163935Z
UID:10000687-1728118800-1728140400@www.pba.edu
SUMMARY:Tuba-Euphonium Clinics
DESCRIPTION:Guest clinicians Alejandro Guardia (euphonium) and Kevin Ildefonso (tuba) share their craft and artistry with students young and older. \nAdmission is free. Registration required. \nReserve a Spot \n 
URL:https://www.pba.edu/event/clinics/
LOCATION:Vera Lea Rinker Hall\, 326 Acacia Rd\, West Palm Beach\, FL\, United States
END:VEVENT
BEGIN:VEVENT
DTSTART;TZID=America/New_York:20241004T193000
DTEND;TZID=America/New_York:20241004T210000
DTSTAMP:20260421T082743
CREATED:20240904T003922Z
LAST-MODIFIED:20240912T160202Z
UID:10000706-1728070200-1728075600@www.pba.edu
SUMMARY:OctubaFest
DESCRIPTION:Celebrate the musical depths with Octubafest\, featuring local performers and tuba and euphonium guest clinicians in concert.  \n$15 general admission; PBA students and those under 18 free. \nRegister Here \n 
URL:https://www.pba.edu/event/octubafest-tuba-euphonium-clinics/
LOCATION:Vera Lea Rinker Hall\, 326 Acacia Rd\, West Palm Beach\, FL\, United States
END:VEVENT
END:VCALENDAR