BEGIN:VCALENDAR
VERSION:2.0
PRODID:-//PBA • Palm Beach Atlantic University - ECPv6.15.20//NONSGML v1.0//EN
CALSCALE:GREGORIAN
METHOD:PUBLISH
X-WR-CALNAME:PBA • Palm Beach Atlantic University
X-ORIGINAL-URL:https://www.pba.edu
X-WR-CALDESC:Events for PBA • Palm Beach Atlantic University
REFRESH-INTERVAL;VALUE=DURATION:PT1H
X-Robots-Tag:noindex
X-PUBLISHED-TTL:PT1H
BEGIN:VTIMEZONE
TZID:America/New_York
BEGIN:DAYLIGHT
TZOFFSETFROM:-0500
TZOFFSETTO:-0400
TZNAME:EDT
DTSTART:20230312T070000
END:DAYLIGHT
BEGIN:STANDARD
TZOFFSETFROM:-0400
TZOFFSETTO:-0500
TZNAME:EST
DTSTART:20231105T060000
END:STANDARD
BEGIN:DAYLIGHT
TZOFFSETFROM:-0500
TZOFFSETTO:-0400
TZNAME:EDT
DTSTART:20240310T070000
END:DAYLIGHT
BEGIN:STANDARD
TZOFFSETFROM:-0400
TZOFFSETTO:-0500
TZNAME:EST
DTSTART:20241103T060000
END:STANDARD
BEGIN:DAYLIGHT
TZOFFSETFROM:-0500
TZOFFSETTO:-0400
TZNAME:EDT
DTSTART:20250309T070000
END:DAYLIGHT
BEGIN:STANDARD
TZOFFSETFROM:-0400
TZOFFSETTO:-0500
TZNAME:EST
DTSTART:20251102T060000
END:STANDARD
BEGIN:DAYLIGHT
TZOFFSETFROM:-0500
TZOFFSETTO:-0400
TZNAME:EDT
DTSTART:20260308T070000
END:DAYLIGHT
BEGIN:STANDARD
TZOFFSETFROM:-0400
TZOFFSETTO:-0500
TZNAME:EST
DTSTART:20261101T060000
END:STANDARD
END:VTIMEZONE
BEGIN:VEVENT
DTSTART;TZID=America/New_York:20251214T160000
DTEND;TZID=America/New_York:20251214T170000
DTSTAMP:20260421T073456
CREATED:20251027T203757Z
LAST-MODIFIED:20251029T135957Z
UID:10000916-1765728000-1765731600@www.pba.edu
SUMMARY:Carols on the Lawn: Celebrate the Holiday Season\, Florida Style
DESCRIPTION:Join us for an afternoon of festive cheer as students perform your favorite holiday classics under the warm Florida sunshine! Bring your lawn chairs\, friends and family for a joyful gathering filled with music\, community and holiday spirit—all in true Florida style. \nAdmission is free.   \nRegister Here \n  \n  \n 
URL:https://www.pba.edu/event/carols-on-the-lawn-celebrate-the-holiday-season-florida-style-2/
LOCATION:The Society of the Four Arts\, 100 Four Arts Plaza\, Palm Beach\, FL\, 33480\, United States
CATEGORIES:Holiday,Performances
ATTACH;FMTTYPE=image/jpeg:https://www.pba.edu/wp-content/uploads/2025/10/carols.jpg
END:VEVENT
BEGIN:VEVENT
DTSTART;TZID=America/New_York:20241215T160000
DTEND;TZID=America/New_York:20241215T170000
DTSTAMP:20260421T073456
CREATED:20240822T170957Z
LAST-MODIFIED:20240822T170957Z
UID:10000699-1734278400-1734282000@www.pba.edu
SUMMARY:Carols on the Lawn  
DESCRIPTION:The PBA Concert Choir returns to present an afternoon of Christmas Carols in the Hulitar Sculpture Gardens of the Society of the Four Arts. Bring your lawn chairs\, blankets and friends and celebrate the holiday season Florida style! \nAdmission is free.
URL:https://www.pba.edu/event/carols-on-the-lawn-2/
LOCATION:The Society of the Four Arts\, 100 Four Arts Plaza\, Palm Beach\, FL\, 33480\, United States
END:VEVENT
END:VCALENDAR