BEGIN:VCALENDAR
VERSION:2.0
PRODID:-//PBA • Palm Beach Atlantic University - ECPv6.15.20//NONSGML v1.0//EN
CALSCALE:GREGORIAN
METHOD:PUBLISH
X-WR-CALNAME:PBA • Palm Beach Atlantic University
X-ORIGINAL-URL:https://www.pba.edu
X-WR-CALDESC:Events for PBA • Palm Beach Atlantic University
REFRESH-INTERVAL;VALUE=DURATION:PT1H
X-Robots-Tag:noindex
X-PUBLISHED-TTL:PT1H
BEGIN:VTIMEZONE
TZID:America/New_York
BEGIN:DAYLIGHT
TZOFFSETFROM:-0500
TZOFFSETTO:-0400
TZNAME:EDT
DTSTART:20230312T070000
END:DAYLIGHT
BEGIN:STANDARD
TZOFFSETFROM:-0400
TZOFFSETTO:-0500
TZNAME:EST
DTSTART:20231105T060000
END:STANDARD
BEGIN:DAYLIGHT
TZOFFSETFROM:-0500
TZOFFSETTO:-0400
TZNAME:EDT
DTSTART:20240310T070000
END:DAYLIGHT
BEGIN:STANDARD
TZOFFSETFROM:-0400
TZOFFSETTO:-0500
TZNAME:EST
DTSTART:20241103T060000
END:STANDARD
BEGIN:DAYLIGHT
TZOFFSETFROM:-0500
TZOFFSETTO:-0400
TZNAME:EDT
DTSTART:20250309T070000
END:DAYLIGHT
BEGIN:STANDARD
TZOFFSETFROM:-0400
TZOFFSETTO:-0500
TZNAME:EST
DTSTART:20251102T060000
END:STANDARD
BEGIN:DAYLIGHT
TZOFFSETFROM:-0500
TZOFFSETTO:-0400
TZNAME:EDT
DTSTART:20260308T070000
END:DAYLIGHT
BEGIN:STANDARD
TZOFFSETFROM:-0400
TZOFFSETTO:-0500
TZNAME:EST
DTSTART:20261101T060000
END:STANDARD
BEGIN:DAYLIGHT
TZOFFSETFROM:-0500
TZOFFSETTO:-0400
TZNAME:EDT
DTSTART:20270314T070000
END:DAYLIGHT
BEGIN:STANDARD
TZOFFSETFROM:-0400
TZOFFSETTO:-0500
TZNAME:EST
DTSTART:20271107T060000
END:STANDARD
END:VTIMEZONE
BEGIN:VEVENT
DTSTART;TZID=America/New_York:20260416T193000
DTEND;TZID=America/New_York:20260416T193000
DTSTAMP:20260423T153030
CREATED:20260112T192314Z
LAST-MODIFIED:20260324T185233Z
UID:10000953-1776367800-1776367800@www.pba.edu
SUMMARY:Pop Rock Ensemble: Sail Away: A Rock Odyssey
DESCRIPTION:Turn up the volume and experience the thrill of rock’s greatest hits in a spectacular live show that brings the classics back to life. Presented by Palm Beach Atlantic University’s Pop Rock Ensemble\, Sail Away: A Rock Odyssey is your pass to an electrifying musical adventure! \nTickets: $15 General Admission; free for PBA students\, staff\, and guests 18 and under \nGet Tickets
URL:https://www.pba.edu/event/pop-rock-ensemble-sail-away-a-rock-odyssey/
LOCATION:Rinker Playhouse\, Kravis Center for the Performing Arts
CATEGORIES:Performances,Theater
END:VEVENT
BEGIN:VEVENT
DTSTART;VALUE=DATE:20260407
DTEND;VALUE=DATE:20260409
DTSTAMP:20260423T153030
CREATED:20260112T191757Z
LAST-MODIFIED:20260323T142831Z
UID:10000937-1775520000-1775692799@www.pba.edu
SUMMARY:PBA Dance Ensemble: Renew
DESCRIPTION:Through ballet\, jazz\, modern\, and contemporary dance\, audiences will experience a powerful artistic journey inspired by Romans 12:2—a call not to conform to the patterns of this world\, but to be transformed by the renewing of the mind. Witness dynamic artistry by the PBA Dance Ensemble\, featuring choreography by Christopher Huggins and PBA faculty members Larry Albright\, Stella Almblade\, Jacqueline Lopez\, and Shizu Yasuda. \nTickets: $25–$50 General Admission; $10 Students with valid ID\nTime:  7:30 – 9 p.m. \nGet Tickets \nUnderwritten by:
URL:https://www.pba.edu/event/pba-dance-ensemble-renew/
LOCATION:Rinker Playhouse\, Kravis Center for the Performing Arts
CATEGORIES:Dance,Performances
END:VEVENT
BEGIN:VEVENT
DTSTART;TZID=America/New_York:20251111T193000
DTEND;TZID=America/New_York:20251111T203000
DTSTAMP:20260423T153030
CREATED:20250821T185035Z
LAST-MODIFIED:20251024T210853Z
UID:10000871-1762889400-1762893000@www.pba.edu
SUMMARY:PBA Pop Rock Ensemble: Sounds of Cinema
DESCRIPTION:7:30 p.m. Tuesday\, November 11  \nRinker Playhouse\, Kravis Center for the Performing Arts \nGrab the popcorn and get ready for an evening of hit songs from your favorite blockbuster movies! \n$15 general admission; PBA students and those under 18 free. Paid parking now in effect.  See link below. \nPurchase Tickets \nParking Information \nContact: Kravis Center Box Office at 561.832.7469
URL:https://www.pba.edu/event/pba-pop-rock-ensemble-sounds-of-cinema/
LOCATION:Rinker Playhouse\, Kravis Center for the Performing Arts
CATEGORIES:Performances
END:VEVENT
BEGIN:VEVENT
DTSTART;TZID=America/New_York:20250524T190000
DTEND;TZID=America/New_York:20250524T210000
DTSTAMP:20260423T153030
CREATED:20250116T221407Z
LAST-MODIFIED:20250116T221407Z
UID:10000824-1748113200-1748120400@www.pba.edu
SUMMARY:PBA Preparatory Department Division of Dance Excerpts from Coppelia
DESCRIPTION:Music by Leo Delibes\nA lighthearted ballet that embraces creativity\, love\, and celebration in an Austrian village.\n$25 general admission.\nFor tickets\, contact Kravis Center Box Office at 561.832.7469
URL:https://www.pba.edu/event/pba-preparatory-department-division-of-dance-excerpts-from-coppelia/
LOCATION:Rinker Playhouse\, Kravis Center for the Performing Arts
CATEGORIES:Performances
END:VEVENT
BEGIN:VEVENT
DTSTART;TZID=America/New_York:20250422T193000
DTEND;TZID=America/New_York:20250423T193000
DTSTAMP:20260423T153030
CREATED:20250116T215947Z
LAST-MODIFIED:20250415T004328Z
UID:10000815-1745350200-1745436600@www.pba.edu
SUMMARY:PBA Dance Ensemble: Spring Dance Concert
DESCRIPTION:Experience an evening of exceptional dance performances\, showcasing the diverse talents of the PBA Dance Ensemble. Featuring a wide array of dance styles\, including ballet\, contemporary\, jazz\, and more\, this concert will highlight the creativity and artistry of Palm Beach Atlantic University students and faculty. Join us as we celebrate\nthe beauty of movement and the power of artistic expression.\n$25-50 general admission; $8 Students with ID.\nFor tickets\, contact Kravis Center Box Office at 561.832.7469 \nTickets
URL:https://www.pba.edu/event/pba-dance-ensemble-spring-dance-concert/
LOCATION:Rinker Playhouse\, Kravis Center for the Performing Arts
CATEGORIES:Performances
END:VEVENT
BEGIN:VEVENT
DTSTART;TZID=America/New_York:20250401T193000
DTEND;TZID=America/New_York:20250401T213000
DTSTAMP:20260423T153030
CREATED:20250116T215234Z
LAST-MODIFIED:20250317T171246Z
UID:10000811-1743535800-1743543000@www.pba.edu
SUMMARY:Pop Rock Ensemble
DESCRIPTION:Join PBA’s Pop Rock Ensemble for an unforgettable program of music as we take a journey through time to revisit some of the most popular songs by the most iconic bands and artists of the past 50 years. \nFor tickets\, Press Here
URL:https://www.pba.edu/event/pop-rock-ensemble/
LOCATION:Rinker Playhouse\, Kravis Center for the Performing Arts
CATEGORIES:Performances
END:VEVENT
BEGIN:VEVENT
DTSTART;TZID=America/New_York:20241201T190000
DTEND;TZID=America/New_York:20241201T210000
DTSTAMP:20260423T153030
CREATED:20240821T210617Z
LAST-MODIFIED:20240916T182941Z
UID:10000683-1733079600-1733086800@www.pba.edu
SUMMARY:Nutcracker: The Land of Sweets 
DESCRIPTION:PBA Preparatory Department of Dance\nMusic by Peter Tchaikovsky \nCome\, stir up the Christmas spirit this winter\, through the eyes and joyful dancing of our children. The evening begins with the magic of Christmas Eve at Clara’s home. Then\, journey with her and her prince through a sparkling Christmas Forest to the Land of Sweets\, where the Sugar Plum Fairy and her angels greet you with delightful dances and global gifts. \n$25 general admission \nFor tickets\, contact Kravis Center Box Office at 561.832.7469.
URL:https://www.pba.edu/event/nutcracker-the-land-of-sweets-2/
LOCATION:Rinker Playhouse\, Kravis Center for the Performing Arts
END:VEVENT
BEGIN:VEVENT
DTSTART;TZID=America/New_York:20241111T193000
DTEND;TZID=America/New_York:20241112T210000
DTSTAMP:20260423T153030
CREATED:20240821T210509Z
LAST-MODIFIED:20240821T210509Z
UID:10000682-1731353400-1731445200@www.pba.edu
SUMMARY:PBA Dance Ensemble 
DESCRIPTION:7:30 p.m. Monday–Tuesday\, November 11–12   \nThe audience will experience the diversity of classical\, contemporary\, worship and multi-ethnic dance in this 80-minute evening at the Kravis Center. This full-length concert will feature works by guest choreographers as well as PBA faculty members: Larry Albright\, Stella Almblade\, Amy Hammel\, Jin Lee Hanley and Shizu Yasuda. \n$25-40 general admission; $7 Students with ID  \nFor tickets\, contact Kravis Center Box Office at 561.832.7469
URL:https://www.pba.edu/event/pba-dance-ensemble-2/
LOCATION:Rinker Playhouse\, Kravis Center for the Performing Arts
CATEGORIES:Dance,Performances
END:VEVENT
END:VCALENDAR