BEGIN:VCALENDAR
VERSION:2.0
PRODID:-//PBA • Palm Beach Atlantic University - ECPv6.15.20//NONSGML v1.0//EN
CALSCALE:GREGORIAN
METHOD:PUBLISH
X-WR-CALNAME:PBA • Palm Beach Atlantic University
X-ORIGINAL-URL:https://www.pba.edu
X-WR-CALDESC:Events for PBA • Palm Beach Atlantic University
REFRESH-INTERVAL;VALUE=DURATION:PT1H
X-Robots-Tag:noindex
X-PUBLISHED-TTL:PT1H
BEGIN:VTIMEZONE
TZID:America/New_York
BEGIN:DAYLIGHT
TZOFFSETFROM:-0500
TZOFFSETTO:-0400
TZNAME:EDT
DTSTART:20240310T070000
END:DAYLIGHT
BEGIN:STANDARD
TZOFFSETFROM:-0400
TZOFFSETTO:-0500
TZNAME:EST
DTSTART:20241103T060000
END:STANDARD
BEGIN:DAYLIGHT
TZOFFSETFROM:-0500
TZOFFSETTO:-0400
TZNAME:EDT
DTSTART:20250309T070000
END:DAYLIGHT
BEGIN:STANDARD
TZOFFSETFROM:-0400
TZOFFSETTO:-0500
TZNAME:EST
DTSTART:20251102T060000
END:STANDARD
BEGIN:DAYLIGHT
TZOFFSETFROM:-0500
TZOFFSETTO:-0400
TZNAME:EDT
DTSTART:20260308T070000
END:DAYLIGHT
BEGIN:STANDARD
TZOFFSETFROM:-0400
TZOFFSETTO:-0500
TZNAME:EST
DTSTART:20261101T060000
END:STANDARD
END:VTIMEZONE
BEGIN:VEVENT
DTSTART;TZID=America/New_York:20250915T080000
DTEND;TZID=America/New_York:20250917T170000
DTSTAMP:20260422T183951
CREATED:20250902T200057Z
LAST-MODIFIED:20250916T163342Z
UID:10000888-1757923200-1758128400@www.pba.edu
SUMMARY:Christival
DESCRIPTION:Join us praising the Lord and learning about Him through song and engaging talks given by some of the most dynamic Christian leaders in the world.  Christival\, a long-standing PBA tradition of praise\, worship and learning.
URL:https://www.pba.edu/event/christival/
LOCATION:Rubin Arena\, 1100 S Dixie Hwy\, West Palm Beach\, FL\, 33403
CATEGORIES:Featured
ATTACH;FMTTYPE=image/png:https://www.pba.edu/wp-content/uploads/2025/09/V3_2025_christival-2-1.png
END:VEVENT
BEGIN:VEVENT
DTSTART;TZID=America/New_York:20250918T150000
DTEND;TZID=America/New_York:20250918T160000
DTSTAMP:20260422T183951
CREATED:20250915T171745Z
LAST-MODIFIED:20250917T204508Z
UID:10000901-1758207600-1758211200@www.pba.edu
SUMMARY:Christian Creedal Unity Series
DESCRIPTION:This series explores the Nicene Creed as a whole\, highlighting the friendship of history and theology\, an overview of creeds\, and how church councils and synodality have helped resolve critical issues in church life. In this session\, special focus will be on this portion of the Nicene Creed: “He ascended into heaven and is seated at the right hand of the Father. He will come again in glory to judge the living and the dead and His kingdom will have no end.”  \nThe presentation will be led by Jesse Grenz\, who will begin with prayer and scripture. \n The session will conclude with a 10 minute Q&A before the final prayer.
URL:https://www.pba.edu/event/christian-creedal-unity-series/
LOCATION:DeSantis Family Chapel\, 300 Okeechobee Blvd\, West Palm Beach\, FL\, United States
END:VEVENT
BEGIN:VEVENT
DTSTART;TZID=America/New_York:20250919T090000
DTEND;TZID=America/New_York:20250919T140000
DTSTAMP:20260422T183951
CREATED:20250912T135726Z
LAST-MODIFIED:20250912T135726Z
UID:10000896-1758272400-1758290400@www.pba.edu
SUMMARY:Engineering and Computer Science Day
DESCRIPTION:An event for prospective families to hear more about our Engineering and Computer Sciences and what they have to offer to students. \nRegister Here \n 
URL:https://www.pba.edu/event/engineering-and-computer-science-day/
LOCATION:DeSantis Family Chapel\, 300 Okeechobee Blvd\, West Palm Beach\, FL\, United States
CATEGORIES:Admissions
ATTACH;FMTTYPE=image/jpeg:https://www.pba.edu/wp-content/uploads/2023/11/Engineering-Program-Boasting-Massive-Potential.jpg
END:VEVENT
END:VCALENDAR