BEGIN:VCALENDAR
VERSION:2.0
PRODID:-//PBA • Palm Beach Atlantic University - ECPv6.15.20//NONSGML v1.0//EN
CALSCALE:GREGORIAN
METHOD:PUBLISH
X-ORIGINAL-URL:https://www.pba.edu
X-WR-CALDESC:Events for PBA • Palm Beach Atlantic University
REFRESH-INTERVAL;VALUE=DURATION:PT1H
X-Robots-Tag:noindex
X-PUBLISHED-TTL:PT1H
BEGIN:VTIMEZONE
TZID:America/New_York
BEGIN:DAYLIGHT
TZOFFSETFROM:-0500
TZOFFSETTO:-0400
TZNAME:EDT
DTSTART:20240310T070000
END:DAYLIGHT
BEGIN:STANDARD
TZOFFSETFROM:-0400
TZOFFSETTO:-0500
TZNAME:EST
DTSTART:20241103T060000
END:STANDARD
BEGIN:DAYLIGHT
TZOFFSETFROM:-0500
TZOFFSETTO:-0400
TZNAME:EDT
DTSTART:20250309T070000
END:DAYLIGHT
BEGIN:STANDARD
TZOFFSETFROM:-0400
TZOFFSETTO:-0500
TZNAME:EST
DTSTART:20251102T060000
END:STANDARD
BEGIN:DAYLIGHT
TZOFFSETFROM:-0500
TZOFFSETTO:-0400
TZNAME:EDT
DTSTART:20260308T070000
END:DAYLIGHT
BEGIN:STANDARD
TZOFFSETFROM:-0400
TZOFFSETTO:-0500
TZNAME:EST
DTSTART:20261101T060000
END:STANDARD
END:VTIMEZONE
BEGIN:VEVENT
DTSTART;VALUE=DATE:20251002
DTEND;VALUE=DATE:20251005
DTSTAMP:20260421T035303
CREATED:20250825T145155Z
LAST-MODIFIED:20250825T181148Z
UID:10000880-1759363200-1759622399@www.pba.edu
SUMMARY:Romeo and Juliet
DESCRIPTION:By William Shakespeare  \nAdapted by Trent Stephens \n7:30 p.m. Thursday–Saturday\, October 2–4   \n2 p.m. Saturday\, October 4   \nFern Street Theatre  \nWhen Romeo sneaks into a party in disguise\, he meets Juliet\, the daughter of his enemy\, and the two fall in love at first sight. Romance\, feuding families\, a Friar with good intentions and moreall collide in a gripping tale of tragedy. A powerful and enduring four-hundred-year-old story that still resonates with contemporary audiences. \n*Recommended for ages 14 and up  \n*Tickets go on sale September 8  \n$20 General\, $15 Seniors 55 and up\, $10 Students. \nRegistration Link
URL:https://www.pba.edu/event/romeo-and-juliet/
LOCATION:Fern Street Theatre\, 500 Fern Street\, West Palm Beach\, FL\, 33401\, United States
CATEGORIES:Performances,Theater
END:VEVENT
BEGIN:VEVENT
DTSTART;TZID=America/New_York:20251004T193000
DTEND;TZID=America/New_York:20251004T203000
DTSTAMP:20260421T035303
CREATED:20250821T184157Z
LAST-MODIFIED:20250911T132557Z
UID:10000867-1759606200-1759609800@www.pba.edu
SUMMARY:Hymn Fest: One Faith\, One Voice
DESCRIPTION:7:30 p.m. Saturday\, October 4   \nDeSantis Family Chapel  \nJoin the PBA Combined Choirs\, along with special guests\, as we celebrate the beauty of timeless hymns and stirring sacred songs that proclaim the core beliefs that have united the Church across centuries and continents. \n$15 general admission; PBA students and those under 18 free. \nRegistration Now
URL:https://www.pba.edu/event/hymn-fest-one-faith-one-voice/
LOCATION:FL
CATEGORIES:Music,Performances
END:VEVENT
END:VCALENDAR