BEGIN:VCALENDAR
VERSION:2.0
PRODID:-//PBA • Palm Beach Atlantic University - ECPv6.15.20//NONSGML v1.0//EN
CALSCALE:GREGORIAN
METHOD:PUBLISH
X-WR-CALNAME:PBA • Palm Beach Atlantic University
X-ORIGINAL-URL:https://www.pba.edu
X-WR-CALDESC:Events for PBA • Palm Beach Atlantic University
REFRESH-INTERVAL;VALUE=DURATION:PT1H
X-Robots-Tag:noindex
X-PUBLISHED-TTL:PT1H
BEGIN:VTIMEZONE
TZID:America/New_York
BEGIN:DAYLIGHT
TZOFFSETFROM:-0500
TZOFFSETTO:-0400
TZNAME:EDT
DTSTART:20240310T070000
END:DAYLIGHT
BEGIN:STANDARD
TZOFFSETFROM:-0400
TZOFFSETTO:-0500
TZNAME:EST
DTSTART:20241103T060000
END:STANDARD
BEGIN:DAYLIGHT
TZOFFSETFROM:-0500
TZOFFSETTO:-0400
TZNAME:EDT
DTSTART:20250309T070000
END:DAYLIGHT
BEGIN:STANDARD
TZOFFSETFROM:-0400
TZOFFSETTO:-0500
TZNAME:EST
DTSTART:20251102T060000
END:STANDARD
BEGIN:DAYLIGHT
TZOFFSETFROM:-0500
TZOFFSETTO:-0400
TZNAME:EDT
DTSTART:20260308T070000
END:DAYLIGHT
BEGIN:STANDARD
TZOFFSETFROM:-0400
TZOFFSETTO:-0500
TZNAME:EST
DTSTART:20261101T060000
END:STANDARD
END:VTIMEZONE
BEGIN:VEVENT
DTSTART;VALUE=DATE:20250927
DTEND;VALUE=DATE:20250929
DTSTAMP:20260421T065928
CREATED:20250815T131421Z
LAST-MODIFIED:20250815T131421Z
UID:10000857-1758931200-1759103999@www.pba.edu
SUMMARY:Hispanic Heritage Festival
DESCRIPTION:
URL:https://www.pba.edu/event/hispanic-heritage-festival/
LOCATION:FL
CATEGORIES:Featured,Music,Performances
END:VEVENT
BEGIN:VEVENT
DTSTART;TZID=America/New_York:20250927T193000
DTEND;TZID=America/New_York:20250927T203000
DTSTAMP:20260421T065928
CREATED:20250821T183839Z
LAST-MODIFIED:20250825T035541Z
UID:10000865-1759001400-1759005000@www.pba.edu
SUMMARY:The Muse Duo with Sydney Carbo
DESCRIPTION:7:30 p.m. Saturday\, September 27  \nThis rich program features the acclaimed Muse Duo alongside PBA alumna Sydney Carbo\, soprano\, in a celebration of Spanish literature and music. Featuring works by famed poet Federico García Lorca and other famous Spanish songs and compositions\, the performance brings together art song and original piano-guitar compositions to bring Spanish literature to life. \n$15 general admission; PBA students and those under 18 free. \nRegistration Link
URL:https://www.pba.edu/event/the-muse-duo-with-sydney-carbo/
LOCATION:FL
CATEGORIES:Music,Performances
END:VEVENT
BEGIN:VEVENT
DTSTART;TZID=America/New_York:20250928T150000
DTEND;TZID=America/New_York:20250928T160000
DTSTAMP:20260421T065928
CREATED:20250821T184029Z
LAST-MODIFIED:20250825T035612Z
UID:10000866-1759071600-1759075200@www.pba.edu
SUMMARY:Duo Gastezi-Bezerra presents Hispanic Music for Two Pianos
DESCRIPTION:3 p.m. Sunday\, September 28 \nJoin the Duo Gastesi-Bezerra in their traditional concert of brilliant Hispanic music for two pianos. \n$15 general admission; PBA students and those under 18 free. \n Registration Link
URL:https://www.pba.edu/event/duo-gastezi-bezerra-presents-hispanic-music-for-two-pianos/
LOCATION:FL
CATEGORIES:Music,Performances
END:VEVENT
END:VCALENDAR