BEGIN:VCALENDAR
VERSION:2.0
PRODID:-//PBA • Palm Beach Atlantic University - ECPv6.15.20//NONSGML v1.0//EN
CALSCALE:GREGORIAN
METHOD:PUBLISH
X-ORIGINAL-URL:https://www.pba.edu
X-WR-CALDESC:Events for PBA • Palm Beach Atlantic University
REFRESH-INTERVAL;VALUE=DURATION:PT1H
X-Robots-Tag:noindex
X-PUBLISHED-TTL:PT1H
BEGIN:VTIMEZONE
TZID:America/New_York
BEGIN:DAYLIGHT
TZOFFSETFROM:-0500
TZOFFSETTO:-0400
TZNAME:EDT
DTSTART:20240310T070000
END:DAYLIGHT
BEGIN:STANDARD
TZOFFSETFROM:-0400
TZOFFSETTO:-0500
TZNAME:EST
DTSTART:20241103T060000
END:STANDARD
BEGIN:DAYLIGHT
TZOFFSETFROM:-0500
TZOFFSETTO:-0400
TZNAME:EDT
DTSTART:20250309T070000
END:DAYLIGHT
BEGIN:STANDARD
TZOFFSETFROM:-0400
TZOFFSETTO:-0500
TZNAME:EST
DTSTART:20251102T060000
END:STANDARD
BEGIN:DAYLIGHT
TZOFFSETFROM:-0500
TZOFFSETTO:-0400
TZNAME:EDT
DTSTART:20260308T070000
END:DAYLIGHT
BEGIN:STANDARD
TZOFFSETFROM:-0400
TZOFFSETTO:-0500
TZNAME:EST
DTSTART:20261101T060000
END:STANDARD
END:VTIMEZONE
BEGIN:VEVENT
DTSTART;TZID=America/New_York:20250904T180000
DTEND;TZID=America/New_York:20250904T193000
DTSTAMP:20260421T070247
CREATED:20250825T150008Z
LAST-MODIFIED:20250825T150008Z
UID:10000883-1757008800-1757014200@www.pba.edu
SUMMARY:Autonomous Multiplicity Exhibition
DESCRIPTION:Opening Reception and Artist Talk: 6–7:30 p.m. Thursday\, September 4 \nExhibition Dates: September 4–November 13\, 2025 \nTauni de Lesseps Art Gallery\, Warren Library   \nEnvision a future where technology has merged with living organisms with Tristyn Bustamante’s new ceramic sculptures. These thought-provoking pieces invite us to imagine a world where humanity has leveraged its better qualities for navigating an elevated existence in the natural world. \nRegistration Link
URL:https://www.pba.edu/event/autonomous-multiplicity-exhibition/
LOCATION:Tauni de Lesseps Art Gallery\, Warren Library\, 300 Pembroke P\, West Palm Beach\, FL\, 33401\, United States
CATEGORIES:Performances
END:VEVENT
END:VCALENDAR