BEGIN:VCALENDAR
VERSION:2.0
PRODID:-//PBA • Palm Beach Atlantic University - ECPv6.15.20//NONSGML v1.0//EN
CALSCALE:GREGORIAN
METHOD:PUBLISH
X-ORIGINAL-URL:https://www.pba.edu
X-WR-CALDESC:Events for PBA • Palm Beach Atlantic University
REFRESH-INTERVAL;VALUE=DURATION:PT1H
X-Robots-Tag:noindex
X-PUBLISHED-TTL:PT1H
BEGIN:VTIMEZONE
TZID:America/New_York
BEGIN:DAYLIGHT
TZOFFSETFROM:-0500
TZOFFSETTO:-0400
TZNAME:EDT
DTSTART:20240310T070000
END:DAYLIGHT
BEGIN:STANDARD
TZOFFSETFROM:-0400
TZOFFSETTO:-0500
TZNAME:EST
DTSTART:20241103T060000
END:STANDARD
BEGIN:DAYLIGHT
TZOFFSETFROM:-0500
TZOFFSETTO:-0400
TZNAME:EDT
DTSTART:20250309T070000
END:DAYLIGHT
BEGIN:STANDARD
TZOFFSETFROM:-0400
TZOFFSETTO:-0500
TZNAME:EST
DTSTART:20251102T060000
END:STANDARD
BEGIN:DAYLIGHT
TZOFFSETFROM:-0500
TZOFFSETTO:-0400
TZNAME:EDT
DTSTART:20260308T070000
END:DAYLIGHT
BEGIN:STANDARD
TZOFFSETFROM:-0400
TZOFFSETTO:-0500
TZNAME:EST
DTSTART:20261101T060000
END:STANDARD
END:VTIMEZONE
BEGIN:VEVENT
DTSTART;VALUE=DATE:20250220
DTEND;VALUE=DATE:20250302
DTSTAMP:20260421T162306
CREATED:20250116T213724Z
LAST-MODIFIED:20250204T163537Z
UID:10000805-1740009600-1740873599@www.pba.edu
SUMMARY:The Lightning Thief
DESCRIPTION:Book by Joe Tracz\nMusic & Lyrics by Rob Rokicki\nAdapted from the book The Lightning Thief by Rick Riordan \nWith an original pop-rock score\, this musical adaptation of the New York Times bestseller follows Percy Jackson as he embarks on an epic adventure to retrieve Zeus’ lightning bolt\, fighting off armies of mythological enemies. Along the way\, he discovers the power of friendship\, courage\, and heroism. The Lightning Thief is an action-packed adventure for all!\n*Recommended for ages 10 and up; Musical\n*Tickets go on sale January 21\, 2025\n$20 General\, $15 Seniors 55 & up\, $10 Students \n\n7:30pm Thursday – Saturday\, February 20 – 22; February 27 – 28\n2:00pm Saturday\, February 22 & March 1st\n\n  \nGet Tickets Here
URL:https://www.pba.edu/event/the-lightning-thief-3/
LOCATION:Fern Street Theatre\, 500 Fern Street\, West Palm Beach\, FL\, 33401\, United States
CATEGORIES:Performances
END:VEVENT
BEGIN:VEVENT
DTSTART;TZID=America/New_York:20250220T180000
DTEND;TZID=America/New_York:20250220T193000
DTSTAMP:20260421T162306
CREATED:20250114T195912Z
LAST-MODIFIED:20250114T195912Z
UID:10000802-1740074400-1740079800@www.pba.edu
SUMMARY:“Woven and Thrown” Exhibit Opening Reception
DESCRIPTION:Featuring alumni from FGCU and PBA working in contemporary craft media\, Sarah Baker’s conceptual fiber work is paired with the production pottery of Sam and Sarah Constanzo of Coastal Clay.\nAdmission is free.
URL:https://www.pba.edu/event/woven-and-thrown-exhibit-opening-reception/
LOCATION:Tauni de Lesseps Art Gallery\, Warren Library\, 300 Pembroke P\, West Palm Beach\, FL\, 33401\, United States
CATEGORIES:Performances
END:VEVENT
BEGIN:VEVENT
DTSTART;TZID=America/New_York:20250220T180000
DTEND;TZID=America/New_York:20250418T193000
DTSTAMP:20260421T162306
CREATED:20250205T152513Z
LAST-MODIFIED:20250205T152513Z
UID:10000831-1740074400-1745004600@www.pba.edu
SUMMARY:Sarah Baker and Sam + Sarah Constanzo
DESCRIPTION:Co-curated with John Loscuito\, Wasmer Gallery of Art\, Florida Gulf Coast University. \nReception: February 20\, 6-7:30 pm
URL:https://www.pba.edu/event/sarah-baker-and-sam-sarah-constanzo/
LOCATION:Tauni de Lesseps Art Gallery\, Warren Library\, 300 Pembroke P\, West Palm Beach\, FL\, 33401\, United States
CATEGORIES:Performances
ORGANIZER;CN="PBA College of the Arts":MAILTO:ticket_central@pba.edu
END:VEVENT
BEGIN:VEVENT
DTSTART;TZID=America/New_York:20250220T193000
DTEND;TZID=America/New_York:20250222T213000
DTSTAMP:20260421T162306
CREATED:20241218T182042Z
LAST-MODIFIED:20241218T182042Z
UID:10000777-1740079800-1740259800@www.pba.edu
SUMMARY:The Lightning Thief
DESCRIPTION:With an original pop-rock score\, this musical adaptation of the New York Times bestseller follows Percy Jackson as he embarks on an epic adventure to retrieve Zeus’ lightning bolt\, fighting off armies of mythological enemies. Along the way\, he discovers the power of friendship\, courage\, and heroism. The Lightning Thief is an action-packed adventure for all! \nFeb. 20-22 & Feb. 27-28\, 2025 @ 7:30 p.m.;\nFeb. 22 & Mar. 1\, 2025 @ 2:00 p.m. \n*Recommended for ages 10 and up; Musical;\n$20 General\, $15 Seniors 55 & up\, $10 Students\n*Tickets go on sale January 21\, 2025
URL:https://www.pba.edu/event/the-lightning-thief/
LOCATION:Fern Street Theatre\, 500 Fern Street\, West Palm Beach\, FL\, 33401\, United States
CATEGORIES:Featured,Theater
ATTACH;FMTTYPE=image/png:https://www.pba.edu/wp-content/uploads/2024/12/LightningThief_FacebookCover.png
END:VEVENT
END:VCALENDAR