BEGIN:VCALENDAR
VERSION:2.0
PRODID:-//PBA • Palm Beach Atlantic University - ECPv6.15.20//NONSGML v1.0//EN
CALSCALE:GREGORIAN
METHOD:PUBLISH
X-ORIGINAL-URL:https://www.pba.edu
X-WR-CALDESC:Events for PBA • Palm Beach Atlantic University
REFRESH-INTERVAL;VALUE=DURATION:PT1H
X-Robots-Tag:noindex
X-PUBLISHED-TTL:PT1H
BEGIN:VTIMEZONE
TZID:America/New_York
BEGIN:DAYLIGHT
TZOFFSETFROM:-0500
TZOFFSETTO:-0400
TZNAME:EDT
DTSTART:20250309T070000
END:DAYLIGHT
BEGIN:STANDARD
TZOFFSETFROM:-0400
TZOFFSETTO:-0500
TZNAME:EST
DTSTART:20251102T060000
END:STANDARD
BEGIN:DAYLIGHT
TZOFFSETFROM:-0500
TZOFFSETTO:-0400
TZNAME:EDT
DTSTART:20260308T070000
END:DAYLIGHT
BEGIN:STANDARD
TZOFFSETFROM:-0400
TZOFFSETTO:-0500
TZNAME:EST
DTSTART:20261101T060000
END:STANDARD
BEGIN:DAYLIGHT
TZOFFSETFROM:-0500
TZOFFSETTO:-0400
TZNAME:EDT
DTSTART:20270314T070000
END:DAYLIGHT
BEGIN:STANDARD
TZOFFSETFROM:-0400
TZOFFSETTO:-0500
TZNAME:EST
DTSTART:20271107T060000
END:STANDARD
END:VTIMEZONE
BEGIN:VEVENT
DTSTART;VALUE=DATE:20260424
DTEND;VALUE=DATE:20260425
DTSTAMP:20260421T004710
CREATED:20260112T224914Z
LAST-MODIFIED:20260401T205533Z
UID:10000943-1776988800-1777075199@www.pba.edu
SUMMARY:18th Annual PBA Cinema Showcase
DESCRIPTION:Join us as we celebrate the creativity and talent of our cinema students\, featuring their films on the big screen! \nTickets: $8 General Admission\nShowtimes: 6 p.m. and 8 p.m. \nGet Tickets \nUnderwritten by:
URL:https://www.pba.edu/event/18th-annual-pba-cinema-showcase/
LOCATION:Regal Royal Palm Beach Movie Theatre\, 1003 State Road 7\, Royal Palm Beach\, FL\, United States
CATEGORIES:Featured,Performances,Theater
END:VEVENT
BEGIN:VEVENT
DTSTART;VALUE=DATE:20260430
DTEND;VALUE=DATE:20260503
DTSTAMP:20260421T004710
CREATED:20260112T231727Z
LAST-MODIFIED:20260116T182117Z
UID:10000947-1777507200-1777766399@www.pba.edu
SUMMARY:Pippin
DESCRIPTION:Book by Roger O. Hirson | Music & Lyrics by Stephen Schwartz \nA young prince embarks on a quest for fulfillment. Along the way\, he encounters a traveling troupe of players and faces the temptations of war\, love\, and other pursuits. Ultimately\, Pippin discovers that true fulfillment lies not in extraordinary feats\, but in the simple joys of ordinary life. \nDates & Times:April 30–May 2\, 2026  7:30 p.m.May 2\, 2026  2:00 p.m. \nRecommended for ages 14 and up | MusicalTickets on sale March 23\, 2026 \nTickets: $20 General | $15 Seniors (55+) | $10 Students \n\n\nUnderwritten by:
URL:https://www.pba.edu/event/pippin/
LOCATION:Fern Street Theatre\, 500 Fern Street\, West Palm Beach\, FL\, 33401\, United States
CATEGORIES:Performances,Theater
END:VEVENT
END:VCALENDAR