BEGIN:VCALENDAR
VERSION:2.0
PRODID:-//PBA • Palm Beach Atlantic University - ECPv6.15.20//NONSGML v1.0//EN
CALSCALE:GREGORIAN
METHOD:PUBLISH
X-WR-CALNAME:PBA • Palm Beach Atlantic University
X-ORIGINAL-URL:https://www.pba.edu
X-WR-CALDESC:Events for PBA • Palm Beach Atlantic University
REFRESH-INTERVAL;VALUE=DURATION:PT1H
X-Robots-Tag:noindex
X-PUBLISHED-TTL:PT1H
BEGIN:VTIMEZONE
TZID:America/New_York
BEGIN:DAYLIGHT
TZOFFSETFROM:-0500
TZOFFSETTO:-0400
TZNAME:EDT
DTSTART:20230312T070000
END:DAYLIGHT
BEGIN:STANDARD
TZOFFSETFROM:-0400
TZOFFSETTO:-0500
TZNAME:EST
DTSTART:20231105T060000
END:STANDARD
BEGIN:DAYLIGHT
TZOFFSETFROM:-0500
TZOFFSETTO:-0400
TZNAME:EDT
DTSTART:20240310T070000
END:DAYLIGHT
BEGIN:STANDARD
TZOFFSETFROM:-0400
TZOFFSETTO:-0500
TZNAME:EST
DTSTART:20241103T060000
END:STANDARD
BEGIN:DAYLIGHT
TZOFFSETFROM:-0500
TZOFFSETTO:-0400
TZNAME:EDT
DTSTART:20250309T070000
END:DAYLIGHT
BEGIN:STANDARD
TZOFFSETFROM:-0400
TZOFFSETTO:-0500
TZNAME:EST
DTSTART:20251102T060000
END:STANDARD
END:VTIMEZONE
BEGIN:VEVENT
DTSTART;TZID=America/New_York:20241115T193000
DTEND;TZID=America/New_York:20241115T210000
DTSTAMP:20260421T042436
CREATED:20240904T005619Z
LAST-MODIFIED:20241008T130430Z
UID:10000708-1731699000-1731704400@www.pba.edu
SUMMARY:PBA Symphony
DESCRIPTION:DeSantis Family Chapel \nJoin the PBA Symphony and Maestro Gregory Ritchey as the Symphony joins in the Hispanic Heritage Festival and serves up music of Hispanic Heritage by composers such as Sarasate\, De Falla\, and Granados.  You will revel in the lyricism as well as the rhythmic energy of the music of the Latin culture. \n$15 general admission; PBA students and those 18 & under free \nRegister Now
URL:https://www.pba.edu/event/pba-symphony/
LOCATION:DeSantis Family Chapel\, 300 Okeechobee Blvd\, West Palm Beach\, FL\, United States
CATEGORIES:Performances
END:VEVENT
BEGIN:VEVENT
DTSTART;TZID=America/New_York:20241111T193000
DTEND;TZID=America/New_York:20241112T210000
DTSTAMP:20260421T042436
CREATED:20240821T210509Z
LAST-MODIFIED:20240821T210509Z
UID:10000682-1731353400-1731445200@www.pba.edu
SUMMARY:PBA Dance Ensemble 
DESCRIPTION:7:30 p.m. Monday–Tuesday\, November 11–12   \nThe audience will experience the diversity of classical\, contemporary\, worship and multi-ethnic dance in this 80-minute evening at the Kravis Center. This full-length concert will feature works by guest choreographers as well as PBA faculty members: Larry Albright\, Stella Almblade\, Amy Hammel\, Jin Lee Hanley and Shizu Yasuda. \n$25-40 general admission; $7 Students with ID  \nFor tickets\, contact Kravis Center Box Office at 561.832.7469
URL:https://www.pba.edu/event/pba-dance-ensemble-2/
LOCATION:Rinker Playhouse\, Kravis Center for the Performing Arts
CATEGORIES:Dance,Performances
END:VEVENT
BEGIN:VEVENT
DTSTART;TZID=America/New_York:20241109T193000
DTEND;TZID=America/New_York:20241109T210000
DTSTAMP:20260421T042436
CREATED:20240904T010205Z
LAST-MODIFIED:20240904T010205Z
UID:10000710-1731180600-1731186000@www.pba.edu
SUMMARY:In the Open Air: The Power of Love\, Death\, and Exile
DESCRIPTION:Liana Branscome – violin\nBeiyao Ji – piano\nHelen K. Persson Recital Hall\nUnderwritten by the Preparatory Department \n$15 general admission; PBA students and those 18 & under free \nRegister Now
URL:https://www.pba.edu/event/in-the-open-air-the-power-of-love-death-and-exile/
LOCATION:Vera Lea Rinker Hall\, 326 Acacia Rd\, West Palm Beach\, FL\, United States
CATEGORIES:Performances
END:VEVENT
BEGIN:VEVENT
DTSTART;TZID=America/New_York:20241102T150000
DTEND;TZID=America/New_York:20241102T210000
DTSTAMP:20260421T042436
CREATED:20240821T210351Z
LAST-MODIFIED:20241101T141928Z
UID:10000681-1730559600-1730581200@www.pba.edu
SUMMARY:Student Choreography Showcase   
DESCRIPTION:3 and 7 p.m. Saturday\, November 2   \nThe Student Choreography Showcase features original compositions by student choreographers from Palm Beach Atlantic University. This concert\, showcasing a wide range of choreographic works\, is designed\, produced\, performed and managed by PBA students. Join us for this creative and innovative performance\, featuring aspiring dance artists from PBA who represent the future of the arts. \n$15 general admission; PBA students and those under 18 free \n  \nBuy Tickets
URL:https://www.pba.edu/event/student-choreography-showcase-3/
LOCATION:Vera Lea Rinker Hall\, 326 Acacia Rd\, West Palm Beach\, FL\, United States
CATEGORIES:Dance,Performances
END:VEVENT
BEGIN:VEVENT
DTSTART;TZID=America/New_York:20241101T193000
DTEND;TZID=America/New_York:20241101T210000
DTSTAMP:20260421T042436
CREATED:20240822T165858Z
LAST-MODIFIED:20241101T141903Z
UID:10000691-1730489400-1730494800@www.pba.edu
SUMMARY:An Evening of Choral Music - The Road Home  
DESCRIPTION:Experience the magic of choral music with a program that will captivate your heart as we take you on a journey of hope\, belonging and the heart’s deepest yearnings. Enjoy beautiful selections that will span various genres and eras performed by the PBA Concert choir\, a group of passionate young artists who inspire through their beautiful voices and skilled artistry.  \n$15 general admission; PBA students and those under 18 free. \n  \nBuy Tickets
URL:https://www.pba.edu/event/an-evening-of-choral-music-the-road-home/
LOCATION:DeSantis Family Chapel\, 300 Okeechobee Blvd\, West Palm Beach\, FL\, United States
CATEGORIES:Performances
END:VEVENT
BEGIN:VEVENT
DTSTART;TZID=America/New_York:20241025T193000
DTEND;TZID=America/New_York:20241025T210000
DTSTAMP:20260421T042436
CREATED:20240904T005752Z
LAST-MODIFIED:20240904T005823Z
UID:10000709-1729884600-1729890000@www.pba.edu
SUMMARY:PBA Jazz Ensemble
DESCRIPTION:Enjoy beloved jazz standards reinterpreted with a contemporary twist\, featuring smooth\, sophisticated instrumentals and dynamic vocals. Experience an enchanting evening of music as the PBA Jazz Ensemble and Vocal Jazz Group present a night of Jazz Standards. Be mesmerized by stunning solo performances that showcase the incredible talent and versatility of our musicians. Directed by Sam Broomell and Sonia Santiago. Let the timeless elegance of jazz wash over you\, delight in fresh arrangements and captivating performances that will have you dancing in the aisles. \n$15 general admission; PBA students and those 18 & under free \nRegister Now
URL:https://www.pba.edu/event/pba-jazz-ensemble-3/
LOCATION:Vera Lea Rinker Hall\, 326 Acacia Rd\, West Palm Beach\, FL\, United States
CATEGORIES:Performances
END:VEVENT
BEGIN:VEVENT
DTSTART;TZID=America/New_York:20241024T180000
DTEND;TZID=America/New_York:20241024T190000
DTSTAMP:20260421T042436
CREATED:20240821T205401Z
LAST-MODIFIED:20241008T125847Z
UID:10000676-1729792800-1729796400@www.pba.edu
SUMMARY:Melting Pot Exhibition Opening Reception  with guest Curator Eduardo Hernández de la Pava 
DESCRIPTION:A feature of the Hispanic Heritage Festival\, this exhibition celebrates contemporary Hispanic artists from South Florida. \nOn display October 11–November 15  \nAdmission is free.  \nRegister Here
URL:https://www.pba.edu/event/melting-pot-exhibition-opening-reception-with-guest-curator-eduardo-hernandez-de-la-pava/
LOCATION:Tauni de Lesseps Art Gallery\, Warren Library\, 300 Pembroke P\, West Palm Beach\, FL\, 33401\, United States
CATEGORIES:Performances
END:VEVENT
BEGIN:VEVENT
DTSTART;TZID=America/New_York:20241003T193000
DTEND;TZID=America/New_York:20241005T210000
DTSTAMP:20260421T042436
CREATED:20240909T123617Z
LAST-MODIFIED:20240909T123619Z
UID:10000678-1727983800-1728162000@www.pba.edu
SUMMARY:Baskerville: A Sherlock Holmes Mystery by Ken Ludwig 
DESCRIPTION:Join everyone’s favorite detectives\, Sherlock Holmes and Dr. Watson\, as they brave the bleak moors in this madcap caper. Baskerville is equal parts adventure and comedy with twists and turns\, a fast-paced whodunit keeping you on the edge of your seat. \n*Recommended for ages 12 and up; Comedy \n*Tickets go on sale September 9\, 2024. \n$20 General\, $15 Seniors 55 and up\, $10 Students \nRegistration:\nOct. 3 at 7:30 p.m. \nOct. 4 at 7:30 p.m. \nOct. 5 at 2 p.m. \nOct. 5 at 7:30 p.m.
URL:https://www.pba.edu/event/baskerville-a-sherlock-holmes-mystery-by-ken-ludwig-2/
LOCATION:Fern Street Theatre\, 500 Fern Street\, West Palm Beach\, FL\, 33401\, United States
CATEGORIES:Performances,Theater
END:VEVENT
BEGIN:VEVENT
DTSTART;TZID=America/New_York:20240927T193000
DTEND;TZID=America/New_York:20240927T210000
DTSTAMP:20260421T042436
CREATED:20240822T165049Z
LAST-MODIFIED:20240923T172216Z
UID:10000685-1727465400-1727470800@www.pba.edu
SUMMARY:Hymn Fest: Our Father’s World 
DESCRIPTION:Come and experience the power of voices joining in community as we sing beloved hymns reminding us of the grace and majesty of our Lord. Bring your family and friends for a  \nnight of joyous music and heartfelt worship. Let’s come together to celebrate “Our Father’s  \nWorld” in a way only music can express. \n$15 general admission; PBA students and those under 18 free.   \n  \nRegister Here \n 
URL:https://www.pba.edu/event/hymn-fest-our-fathers-world/
LOCATION:DeSantis Family Chapel\, 300 Okeechobee Blvd\, West Palm Beach\, FL\, United States
CATEGORIES:Performances
END:VEVENT
END:VCALENDAR