BEGIN:VCALENDAR
VERSION:2.0
PRODID:-//PBA • Palm Beach Atlantic University - ECPv6.15.20//NONSGML v1.0//EN
CALSCALE:GREGORIAN
METHOD:PUBLISH
X-ORIGINAL-URL:https://www.pba.edu
X-WR-CALDESC:Events for PBA • Palm Beach Atlantic University
REFRESH-INTERVAL;VALUE=DURATION:PT1H
X-Robots-Tag:noindex
X-PUBLISHED-TTL:PT1H
BEGIN:VTIMEZONE
TZID:America/New_York
BEGIN:DAYLIGHT
TZOFFSETFROM:-0500
TZOFFSETTO:-0400
TZNAME:EDT
DTSTART:20240310T070000
END:DAYLIGHT
BEGIN:STANDARD
TZOFFSETFROM:-0400
TZOFFSETTO:-0500
TZNAME:EST
DTSTART:20241103T060000
END:STANDARD
BEGIN:DAYLIGHT
TZOFFSETFROM:-0500
TZOFFSETTO:-0400
TZNAME:EDT
DTSTART:20250309T070000
END:DAYLIGHT
BEGIN:STANDARD
TZOFFSETFROM:-0400
TZOFFSETTO:-0500
TZNAME:EST
DTSTART:20251102T060000
END:STANDARD
BEGIN:DAYLIGHT
TZOFFSETFROM:-0500
TZOFFSETTO:-0400
TZNAME:EDT
DTSTART:20260308T070000
END:DAYLIGHT
BEGIN:STANDARD
TZOFFSETFROM:-0400
TZOFFSETTO:-0500
TZNAME:EST
DTSTART:20261101T060000
END:STANDARD
END:VTIMEZONE
BEGIN:VEVENT
DTSTART;TZID=America/New_York:20251120T193000
DTEND;TZID=America/New_York:20251120T203000
DTSTAMP:20260421T151304
CREATED:20250821T185510Z
LAST-MODIFIED:20251023T145023Z
UID:10000875-1763667000-1763670600@www.pba.edu
SUMMARY:PBA Jazz and Vocal Ensemble
DESCRIPTION:7:30 p.m. Thursday\, November 20   \nVera Lea Rinker Hall  \nGet ready for an electrifying night of rhythm\, harmony and soul as the Jazz Ensemble and Vocal Ensemble take the stage together. This dynamic concert features tight grooves\, smooth vocals and high-energy improvisation full of heart and collaboration. \n$15 general admission; PBA students and those under 18 free. \nRegistration Link
URL:https://www.pba.edu/event/pba-jazz-and-vocal-ensemble/
LOCATION:Vera Lea Rinker Hall\, 326 Acacia Rd\, West Palm Beach\, FL\, United States
CATEGORIES:Music,Performances
END:VEVENT
END:VCALENDAR