BEGIN:VCALENDAR
VERSION:2.0
PRODID:-//PBA • Palm Beach Atlantic University - ECPv6.15.20//NONSGML v1.0//EN
CALSCALE:GREGORIAN
METHOD:PUBLISH
X-ORIGINAL-URL:https://www.pba.edu
X-WR-CALDESC:Events for PBA • Palm Beach Atlantic University
REFRESH-INTERVAL;VALUE=DURATION:PT1H
X-Robots-Tag:noindex
X-PUBLISHED-TTL:PT1H
BEGIN:VTIMEZONE
TZID:America/New_York
BEGIN:DAYLIGHT
TZOFFSETFROM:-0500
TZOFFSETTO:-0400
TZNAME:EDT
DTSTART:20250309T070000
END:DAYLIGHT
BEGIN:STANDARD
TZOFFSETFROM:-0400
TZOFFSETTO:-0500
TZNAME:EST
DTSTART:20251102T060000
END:STANDARD
BEGIN:DAYLIGHT
TZOFFSETFROM:-0500
TZOFFSETTO:-0400
TZNAME:EDT
DTSTART:20260308T070000
END:DAYLIGHT
BEGIN:STANDARD
TZOFFSETFROM:-0400
TZOFFSETTO:-0500
TZNAME:EST
DTSTART:20261101T060000
END:STANDARD
BEGIN:DAYLIGHT
TZOFFSETFROM:-0500
TZOFFSETTO:-0400
TZNAME:EDT
DTSTART:20270314T070000
END:DAYLIGHT
BEGIN:STANDARD
TZOFFSETFROM:-0400
TZOFFSETTO:-0500
TZNAME:EST
DTSTART:20271107T060000
END:STANDARD
END:VTIMEZONE
BEGIN:VEVENT
DTSTART;TZID=America/New_York:20260420T193000
DTEND;TZID=America/New_York:20260420T210000
DTSTAMP:20260420T174815
CREATED:20260112T192726Z
LAST-MODIFIED:20260112T192726Z
UID:10000940-1776713400-1776718800@www.pba.edu
SUMMARY:Worship Music Ensemble: Endless Praise
DESCRIPTION:Join Palm Beach Atlantic University’s Worship Music Ensemble for an evening of joyful music and praise as we give thanks for all that God has done! \nTickets: $15 General Admission; free for PBA students\, staff\, and guests 18 and under
URL:https://www.pba.edu/event/worship-music-ensemble-endless-praise/
LOCATION:DeSantis Family Chapel\, 300 Okeechobee Blvd\, West Palm Beach\, FL\, United States
CATEGORIES:Music,Performances
END:VEVENT
BEGIN:VEVENT
DTSTART;TZID=America/New_York:20260422T193000
DTEND;TZID=America/New_York:20260422T210000
DTSTAMP:20260420T174815
CREATED:20260112T193138Z
LAST-MODIFIED:20260112T234028Z
UID:10000941-1776886200-1776891600@www.pba.edu
SUMMARY:Fanfares!
DESCRIPTION:The PBA Brass and Percussion Ensembles present an evening of classical brass choir music\, featuring fanfares and lighter pieces by major composers. \nTickets: $15 General Admission; free for PBA students\, staff\, and guests 18 and under
URL:https://www.pba.edu/event/fanfares/
LOCATION:Vera Lea Rinker Hall\, 326 Acacia Rd\, West Palm Beach\, FL\, United States
CATEGORIES:Music,Performances
END:VEVENT
BEGIN:VEVENT
DTSTART;TZID=America/New_York:20260425T120000
DTEND;TZID=America/New_York:20260425T203000
DTSTAMP:20260420T174815
CREATED:20260112T225651Z
LAST-MODIFIED:20260313T172811Z
UID:10000944-1777118400-1777149000@www.pba.edu
SUMMARY:First Annual PBA Jazz Festival
DESCRIPTION:High School Jazz Competition The PBA Music Department welcomes jazz combos from Florida high schools to showcase their skills in improvisation and arranging. \nFaculty Jazz Concert: 7:30 p.m.Join the PBA Jazz faculty for an evening of dynamic jazz combo performances\, just prior to the awards ceremony. \nRegister Here
URL:https://www.pba.edu/event/first-annual-pba-jazz-festival/
LOCATION:Vera Lea Rinker Hall\, 326 Acacia Rd\, West Palm Beach\, FL\, United States
CATEGORIES:Music,Performances
END:VEVENT
BEGIN:VEVENT
DTSTART;TZID=America/New_York:20260426T160000
DTEND;TZID=America/New_York:20260426T173000
DTSTAMP:20260420T174815
CREATED:20260112T230201Z
LAST-MODIFIED:20260112T230201Z
UID:10000945-1777219200-1777224600@www.pba.edu
SUMMARY:PBA Pops Celebrate America!
DESCRIPTION:Join us for a musical celebration like no other! PBA Pops brings together the combined Choirs\, Symphony\, and Band for a spirited performance of beloved patriotic favorites\, timeless American classics\, and show-stopping pieces that honor the heart and history of our nation. Experience an afternoon filled with joy\, pride\, and musical brilliance perfect for families\, friends\, and music lovers of all ages. \nTickets: $15 General Admission; free for PBA students and guests 18 and under
URL:https://www.pba.edu/event/pba-pops-celebrate-america/
LOCATION:First Presbyterian Church of North Palm Beach\, First Presbyterian Church\, Prosperity Farms Road\, North Palm Beach\, FL\, United States
CATEGORIES:Music,Performances
END:VEVENT
BEGIN:VEVENT
DTSTART;TZID=America/New_York:20260430T193000
DTEND;TZID=America/New_York:20260430T210000
DTSTAMP:20260420T174815
CREATED:20260112T230340Z
LAST-MODIFIED:20260112T234120Z
UID:10000946-1777577400-1777582800@www.pba.edu
SUMMARY:Chamber Music Concert
DESCRIPTION:Experience an afternoon of beauty in its most intimate form. Featuring small ensembles of talented musicians\, this concert presents a diverse program that highlights the delicate interplay\, nuanced expression\, and collaborative spirit unique to chamber music. \nTickets: $15 General Admission; free for PBA students and guests 18 and under
URL:https://www.pba.edu/event/chamber-music-concert-3/
LOCATION:Vera Lea Rinker Hall\, 326 Acacia Rd\, West Palm Beach\, FL\, United States
CATEGORIES:Music,Performances
END:VEVENT
END:VCALENDAR