BEGIN:VCALENDAR
VERSION:2.0
PRODID:-//PBA • Palm Beach Atlantic University - ECPv6.15.20//NONSGML v1.0//EN
CALSCALE:GREGORIAN
METHOD:PUBLISH
X-ORIGINAL-URL:https://www.pba.edu
X-WR-CALDESC:Events for PBA • Palm Beach Atlantic University
REFRESH-INTERVAL;VALUE=DURATION:PT1H
X-Robots-Tag:noindex
X-PUBLISHED-TTL:PT1H
BEGIN:VTIMEZONE
TZID:America/New_York
BEGIN:DAYLIGHT
TZOFFSETFROM:-0500
TZOFFSETTO:-0400
TZNAME:EDT
DTSTART:20240310T070000
END:DAYLIGHT
BEGIN:STANDARD
TZOFFSETFROM:-0400
TZOFFSETTO:-0500
TZNAME:EST
DTSTART:20241103T060000
END:STANDARD
BEGIN:DAYLIGHT
TZOFFSETFROM:-0500
TZOFFSETTO:-0400
TZNAME:EDT
DTSTART:20250309T070000
END:DAYLIGHT
BEGIN:STANDARD
TZOFFSETFROM:-0400
TZOFFSETTO:-0500
TZNAME:EST
DTSTART:20251102T060000
END:STANDARD
BEGIN:DAYLIGHT
TZOFFSETFROM:-0500
TZOFFSETTO:-0400
TZNAME:EDT
DTSTART:20260308T070000
END:DAYLIGHT
BEGIN:STANDARD
TZOFFSETFROM:-0400
TZOFFSETTO:-0500
TZNAME:EST
DTSTART:20261101T060000
END:STANDARD
END:VTIMEZONE
BEGIN:VEVENT
DTSTART;VALUE=DATE:20250913
DTEND;VALUE=DATE:20250915
DTSTAMP:20260421T151542
CREATED:20250820T152737Z
LAST-MODIFIED:20250825T180610Z
UID:10000859-1757721600-1757894399@www.pba.edu
SUMMARY:PBA Dance Ensemble in South Korea
DESCRIPTION:6 p.m. Saturday and Sunday\, September 13–14  \nShinjeongho Outdoor Concert Hall\, A-san\, South Korea \nJoin us for a vibrant celebration of ethnic rhythms as the PBA Dance Ensemble takes the stage at the  International Ethnic Dance Festival in South Korea! \nAdmission is free.  \nRegistration Link
URL:https://www.pba.edu/event/pba-dance-ensemble-in-south-korea/
LOCATION:FL
CATEGORIES:Music,Performances
END:VEVENT
BEGIN:VEVENT
DTSTART;TZID=America/New_York:20250913T193000
DTEND;TZID=America/New_York:20250913T203000
DTSTAMP:20260421T151542
CREATED:20250821T142543Z
LAST-MODIFIED:20250910T150141Z
UID:10000863-1757791800-1757795400@www.pba.edu
SUMMARY:Faculty Recital: Loni White\, Pianist  
DESCRIPTION:7:30 p.m. Saturday\, September 13   \nVera Lea Rinker Hall  \nExperience a stunning performance on our state-of-the-art Steinway Spirio Concert Grand Piano. Witness how this revolutionary technology transforms beloved compositions\, offering a fresh and immersive listening experience like never before. \n$15 general admission; PBA students and those under 18 free. \nRegistration Link \n  \nAudience Choice\nSelect their preferred songs during the event \nSelect a Song
URL:https://www.pba.edu/event/faculty-recital-loni-white-pianist/
LOCATION:FL
CATEGORIES:Music,Performances
END:VEVENT
END:VCALENDAR