BEGIN:VCALENDAR
VERSION:2.0
PRODID:-//PBA • Palm Beach Atlantic University - ECPv6.15.20//NONSGML v1.0//EN
CALSCALE:GREGORIAN
METHOD:PUBLISH
X-ORIGINAL-URL:https://www.pba.edu
X-WR-CALDESC:Events for PBA • Palm Beach Atlantic University
REFRESH-INTERVAL;VALUE=DURATION:PT1H
X-Robots-Tag:noindex
X-PUBLISHED-TTL:PT1H
BEGIN:VTIMEZONE
TZID:America/New_York
BEGIN:DAYLIGHT
TZOFFSETFROM:-0500
TZOFFSETTO:-0400
TZNAME:EDT
DTSTART:20250309T070000
END:DAYLIGHT
BEGIN:STANDARD
TZOFFSETFROM:-0400
TZOFFSETTO:-0500
TZNAME:EST
DTSTART:20251102T060000
END:STANDARD
BEGIN:DAYLIGHT
TZOFFSETFROM:-0500
TZOFFSETTO:-0400
TZNAME:EDT
DTSTART:20260308T070000
END:DAYLIGHT
BEGIN:STANDARD
TZOFFSETFROM:-0400
TZOFFSETTO:-0500
TZNAME:EST
DTSTART:20261101T060000
END:STANDARD
BEGIN:DAYLIGHT
TZOFFSETFROM:-0500
TZOFFSETTO:-0400
TZNAME:EDT
DTSTART:20270314T070000
END:DAYLIGHT
BEGIN:STANDARD
TZOFFSETFROM:-0400
TZOFFSETTO:-0500
TZNAME:EST
DTSTART:20271107T060000
END:STANDARD
END:VTIMEZONE
BEGIN:VEVENT
DTSTART;TZID=America/New_York:20260212T193000
DTEND;TZID=America/New_York:20260212T203000
DTSTAMP:20260420T192619
CREATED:20260109T191627Z
LAST-MODIFIED:20260112T234826Z
UID:10000927-1770924600-1770928200@www.pba.edu
SUMMARY:Two Bands\, One Stage
DESCRIPTION:Join us for a special Side-By-Side Concert as the PBA Symphonic Band welcomes the talented musicians of the Atlantic Christian Academy High School Wind Ensemble. Students will rehearse\, perform\, and make music together\, blending youthful energy with collegiate artistry for an inspiring evening of collaboration. Come celebrate community\, creativity\, and the next generation of performers. \nTickets: $15 general admission; free for PBA students\, staff\, and those 18 and under. \nPurchase Tickets
URL:https://www.pba.edu/event/two-bands-one-stage/
LOCATION:DeSantis Family Chapel\, 300 Okeechobee Blvd\, West Palm Beach\, FL\, United States
CATEGORIES:Music
END:VEVENT
END:VCALENDAR