BEGIN:VCALENDAR
VERSION:2.0
PRODID:-//PBA • Palm Beach Atlantic University - ECPv6.15.20//NONSGML v1.0//EN
CALSCALE:GREGORIAN
METHOD:PUBLISH
X-WR-CALNAME:PBA • Palm Beach Atlantic University
X-ORIGINAL-URL:https://www.pba.edu
X-WR-CALDESC:Events for PBA • Palm Beach Atlantic University
REFRESH-INTERVAL;VALUE=DURATION:PT1H
X-Robots-Tag:noindex
X-PUBLISHED-TTL:PT1H
BEGIN:VTIMEZONE
TZID:America/New_York
BEGIN:DAYLIGHT
TZOFFSETFROM:-0500
TZOFFSETTO:-0400
TZNAME:EDT
DTSTART:20240310T070000
END:DAYLIGHT
BEGIN:STANDARD
TZOFFSETFROM:-0400
TZOFFSETTO:-0500
TZNAME:EST
DTSTART:20241103T060000
END:STANDARD
BEGIN:DAYLIGHT
TZOFFSETFROM:-0500
TZOFFSETTO:-0400
TZNAME:EDT
DTSTART:20250309T070000
END:DAYLIGHT
BEGIN:STANDARD
TZOFFSETFROM:-0400
TZOFFSETTO:-0500
TZNAME:EST
DTSTART:20251102T060000
END:STANDARD
BEGIN:DAYLIGHT
TZOFFSETFROM:-0500
TZOFFSETTO:-0400
TZNAME:EDT
DTSTART:20260308T070000
END:DAYLIGHT
BEGIN:STANDARD
TZOFFSETFROM:-0400
TZOFFSETTO:-0500
TZNAME:EST
DTSTART:20261101T060000
END:STANDARD
END:VTIMEZONE
BEGIN:VEVENT
DTSTART;VALUE=DATE:20251120
DTEND;VALUE=DATE:20251123
DTSTAMP:20260421T003752
CREATED:20250825T145700Z
LAST-MODIFIED:20250825T181214Z
UID:10000881-1763596800-1763855999@www.pba.edu
SUMMARY:Dear Jack\, Dear Louise
DESCRIPTION:By Ken Ludwig \n7:30 p.m. Thursday–Saturday\, November 20-22   \n2 p.m. Saturday\, November 22  \nFern Street Theatre  \nPlaywright Ken Ludwig captures the love story of his parents\, U.S. Army Captain Jack Ludwig and aspiring showgirl Louise Rabiner. The two strangers meet by letter during World War II and embark on a romantic courtship built solely on their witty and deeply personal letters. A moving and engaging love story filled with comedy and an uplifting sense of hope. \nDramatic Comedy \n*Recommended for ages 12 and up  \n*Tickets go on sale October 27  \n$20 General\, $15 Seniors 55 and up\, $10 Students. \nRegistration Link
URL:https://www.pba.edu/event/dear-jack-dear-louise/
LOCATION:FL
CATEGORIES:Performances,Theater
END:VEVENT
END:VCALENDAR