BEGIN:VCALENDAR
VERSION:2.0
PRODID:-//PBA • Palm Beach Atlantic University - ECPv6.15.20//NONSGML v1.0//EN
CALSCALE:GREGORIAN
METHOD:PUBLISH
X-WR-CALNAME:PBA • Palm Beach Atlantic University
X-ORIGINAL-URL:https://www.pba.edu
X-WR-CALDESC:Events for PBA • Palm Beach Atlantic University
REFRESH-INTERVAL;VALUE=DURATION:PT1H
X-Robots-Tag:noindex
X-PUBLISHED-TTL:PT1H
BEGIN:VTIMEZONE
TZID:America/New_York
BEGIN:DAYLIGHT
TZOFFSETFROM:-0500
TZOFFSETTO:-0400
TZNAME:EDT
DTSTART:20240310T070000
END:DAYLIGHT
BEGIN:STANDARD
TZOFFSETFROM:-0400
TZOFFSETTO:-0500
TZNAME:EST
DTSTART:20241103T060000
END:STANDARD
BEGIN:DAYLIGHT
TZOFFSETFROM:-0500
TZOFFSETTO:-0400
TZNAME:EDT
DTSTART:20250309T070000
END:DAYLIGHT
BEGIN:STANDARD
TZOFFSETFROM:-0400
TZOFFSETTO:-0500
TZNAME:EST
DTSTART:20251102T060000
END:STANDARD
BEGIN:DAYLIGHT
TZOFFSETFROM:-0500
TZOFFSETTO:-0400
TZNAME:EDT
DTSTART:20260308T070000
END:DAYLIGHT
BEGIN:STANDARD
TZOFFSETFROM:-0400
TZOFFSETTO:-0500
TZNAME:EST
DTSTART:20261101T060000
END:STANDARD
END:VTIMEZONE
BEGIN:VEVENT
DTSTART;VALUE=DATE:20251002
DTEND;VALUE=DATE:20251005
DTSTAMP:20260421T003614
CREATED:20250825T145155Z
LAST-MODIFIED:20250825T181148Z
UID:10000880-1759363200-1759622399@www.pba.edu
SUMMARY:Romeo and Juliet
DESCRIPTION:By William Shakespeare  \nAdapted by Trent Stephens \n7:30 p.m. Thursday–Saturday\, October 2–4   \n2 p.m. Saturday\, October 4   \nFern Street Theatre  \nWhen Romeo sneaks into a party in disguise\, he meets Juliet\, the daughter of his enemy\, and the two fall in love at first sight. Romance\, feuding families\, a Friar with good intentions and moreall collide in a gripping tale of tragedy. A powerful and enduring four-hundred-year-old story that still resonates with contemporary audiences. \n*Recommended for ages 14 and up  \n*Tickets go on sale September 8  \n$20 General\, $15 Seniors 55 and up\, $10 Students. \nRegistration Link
URL:https://www.pba.edu/event/romeo-and-juliet/
LOCATION:Fern Street Theatre\, 500 Fern Street\, West Palm Beach\, FL\, 33401\, United States
CATEGORIES:Performances,Theater
END:VEVENT
BEGIN:VEVENT
DTSTART;TZID=America/New_York:20251004T193000
DTEND;TZID=America/New_York:20251004T203000
DTSTAMP:20260421T003614
CREATED:20250821T184157Z
LAST-MODIFIED:20250911T132557Z
UID:10000867-1759606200-1759609800@www.pba.edu
SUMMARY:Hymn Fest: One Faith\, One Voice
DESCRIPTION:7:30 p.m. Saturday\, October 4   \nDeSantis Family Chapel  \nJoin the PBA Combined Choirs\, along with special guests\, as we celebrate the beauty of timeless hymns and stirring sacred songs that proclaim the core beliefs that have united the Church across centuries and continents. \n$15 general admission; PBA students and those under 18 free. \nRegistration Now
URL:https://www.pba.edu/event/hymn-fest-one-faith-one-voice/
LOCATION:FL
CATEGORIES:Music,Performances
END:VEVENT
BEGIN:VEVENT
DTSTART;VALUE=DATE:20251011
DTEND;VALUE=DATE:20251012
DTSTAMP:20260421T003614
CREATED:20250821T184405Z
LAST-MODIFIED:20250919T160549Z
UID:10000868-1760140800-1760227199@www.pba.edu
SUMMARY:OctubaFest  
DESCRIPTION:Saturday\, October 11 \n9 a.m. – Clinic \n3:00 p.m. – Concert \nVera Lea Rinker Hall \nThe PBA Music Department and Dr. Michael O’Connor welcomes the Miami Low Frequency Ensemble for a day of masterclasses and performances. Players of all ages are welcome to attend. A performance by faculty and students will begin at 3:00pm. \nAdmission is free. Registration requested. \nRegister Here
URL:https://www.pba.edu/event/octubafest/
LOCATION:Vera Lea Rinker Hall\, 326 Acacia Rd\, West Palm Beach\, FL\, United States
CATEGORIES:Music,Performances
END:VEVENT
BEGIN:VEVENT
DTSTART;TZID=America/New_York:20251011T150000
DTEND;TZID=America/New_York:20251011T160000
DTSTAMP:20260421T003614
CREATED:20250820T152522Z
LAST-MODIFIED:20251007T174458Z
UID:10000858-1760194800-1760198400@www.pba.edu
SUMMARY:Miami Low Frequency Ensemble
DESCRIPTION:The PBA Music Department and Dr. Michael O’Connor welcome the Miami Low Frequency Ensemble for a day of masterclasses and performances. \n$15 general admission; PBA students and those under 18 free. \nRegistration Link
URL:https://www.pba.edu/event/miami-low-frequency-ensemble/
LOCATION:Vera Lea Rinker Hall\, 326 Acacia Rd\, West Palm Beach\, FL\, United States
CATEGORIES:Music,Performances
END:VEVENT
BEGIN:VEVENT
DTSTART;TZID=America/New_York:20251011T193000
DTEND;TZID=America/New_York:20251011T203000
DTSTAMP:20260421T003614
CREATED:20250821T184805Z
LAST-MODIFIED:20251001T154514Z
UID:10000869-1760211000-1760214600@www.pba.edu
SUMMARY:Symphonic Band and Symphony
DESCRIPTION:7:30 p.m. Saturday\, October 11   \nFirst Evangelical Lutheran Church  \nThe PBA Symphony and Symphonic Band will unite for a powerful performance featuring a diverse repertoire. From sweeping symphonic movements to bold\, brassy marches\, this performance will showcase the talents of our dedicated student musicians. \n$15 general admission; PBA students and those under 18 free. \nRegistration Link
URL:https://www.pba.edu/event/symphonic-band-and-symphony/
LOCATION:First Evangelical Lutheran Church\, 2740 Parker Ave\, West Palm Beach\, FL\, 33405\, United States
CATEGORIES:Music,Performances
END:VEVENT
END:VCALENDAR