BEGIN:VCALENDAR
VERSION:2.0
PRODID:-//PBA • Palm Beach Atlantic University - ECPv6.15.20//NONSGML v1.0//EN
CALSCALE:GREGORIAN
METHOD:PUBLISH
X-WR-CALNAME:PBA • Palm Beach Atlantic University
X-ORIGINAL-URL:https://www.pba.edu
X-WR-CALDESC:Events for PBA • Palm Beach Atlantic University
REFRESH-INTERVAL;VALUE=DURATION:PT1H
X-Robots-Tag:noindex
X-PUBLISHED-TTL:PT1H
BEGIN:VTIMEZONE
TZID:America/New_York
BEGIN:DAYLIGHT
TZOFFSETFROM:-0500
TZOFFSETTO:-0400
TZNAME:EDT
DTSTART:20240310T070000
END:DAYLIGHT
BEGIN:STANDARD
TZOFFSETFROM:-0400
TZOFFSETTO:-0500
TZNAME:EST
DTSTART:20241103T060000
END:STANDARD
BEGIN:DAYLIGHT
TZOFFSETFROM:-0500
TZOFFSETTO:-0400
TZNAME:EDT
DTSTART:20250309T070000
END:DAYLIGHT
BEGIN:STANDARD
TZOFFSETFROM:-0400
TZOFFSETTO:-0500
TZNAME:EST
DTSTART:20251102T060000
END:STANDARD
BEGIN:DAYLIGHT
TZOFFSETFROM:-0500
TZOFFSETTO:-0400
TZNAME:EDT
DTSTART:20260308T070000
END:DAYLIGHT
BEGIN:STANDARD
TZOFFSETFROM:-0400
TZOFFSETTO:-0500
TZNAME:EST
DTSTART:20261101T060000
END:STANDARD
END:VTIMEZONE
BEGIN:VEVENT
DTSTART;TZID=America/New_York:20250220T180000
DTEND;TZID=America/New_York:20250418T193000
DTSTAMP:20260421T114230
CREATED:20250205T152513Z
LAST-MODIFIED:20250205T152513Z
UID:10000831-1740074400-1745004600@www.pba.edu
SUMMARY:Sarah Baker and Sam + Sarah Constanzo
DESCRIPTION:Co-curated with John Loscuito\, Wasmer Gallery of Art\, Florida Gulf Coast University. \nReception: February 20\, 6-7:30 pm
URL:https://www.pba.edu/event/sarah-baker-and-sam-sarah-constanzo/
LOCATION:Tauni de Lesseps Art Gallery\, Warren Library\, 300 Pembroke P\, West Palm Beach\, FL\, 33401\, United States
CATEGORIES:Performances
ORGANIZER;CN="PBA College of the Arts":MAILTO:ticket_central@pba.edu
END:VEVENT
BEGIN:VEVENT
DTSTART;TZID=America/New_York:20250401T193000
DTEND;TZID=America/New_York:20250401T213000
DTSTAMP:20260421T114230
CREATED:20250116T215234Z
LAST-MODIFIED:20250317T171246Z
UID:10000811-1743535800-1743543000@www.pba.edu
SUMMARY:Pop Rock Ensemble
DESCRIPTION:Join PBA’s Pop Rock Ensemble for an unforgettable program of music as we take a journey through time to revisit some of the most popular songs by the most iconic bands and artists of the past 50 years. \nFor tickets\, Press Here
URL:https://www.pba.edu/event/pop-rock-ensemble/
LOCATION:Rinker Playhouse\, Kravis Center for the Performing Arts
CATEGORIES:Performances
END:VEVENT
BEGIN:VEVENT
DTSTART;TZID=America/New_York:20250404T193000
DTEND;TZID=America/New_York:20250404T210000
DTSTAMP:20260421T114230
CREATED:20250116T215426Z
LAST-MODIFIED:20250116T215426Z
UID:10000812-1743795000-1743800400@www.pba.edu
SUMMARY:PBA Choirs in Concert: Peace & Consolation
DESCRIPTION:Experience an unforgettable evening of choral and orchestral artistry as the PBA Choirs and chamber orchestra come together to perform Gabriel Faure’s Requiem. This ethereal work\, cherished for its gentle beauty and profound emotional depth\, offer a moving meditation on life\, peace and eternity. Directed by Sonia Santiago our choral department will inspire you to ponder grace\, forgiveness and redemption during this Lenten season. \n$15 general admission; PBA students and those 18 & under free \nhttps://www.eventbrite.com/cc/pba-college-of-the-arts-145489
URL:https://www.pba.edu/event/pba-choirs-in-concert-peace-consolation/
LOCATION:DeSantis Family Chapel\, 300 Okeechobee Blvd\, West Palm Beach\, FL\, United States
CATEGORIES:Performances
END:VEVENT
BEGIN:VEVENT
DTSTART;TZID=America/New_York:20250412T110000
DTEND;TZID=America/New_York:20250412T130000
DTSTAMP:20260421T114230
CREATED:20250116T215542Z
LAST-MODIFIED:20250116T215542Z
UID:10000813-1744455600-1744462800@www.pba.edu
SUMMARY:Carousel Children’s Concert
DESCRIPTION:PBA Symphony and the Preparatory Department presents their annual Carousel Concert featuring the preparatory\nconcerto competition winners and the preparatory strings.\nAdmission is free. Tickets required. \nhttps://www.eventbrite.com/cc/pba-college-of-the-arts-145489
URL:https://www.pba.edu/event/carousel-childrens-concert/
LOCATION:DeSantis Family Chapel\, 300 Okeechobee Blvd\, West Palm Beach\, FL\, United States
CATEGORIES:Performances
END:VEVENT
BEGIN:VEVENT
DTSTART;TZID=America/New_York:20250414T193000
DTEND;TZID=America/New_York:20250414T210000
DTSTAMP:20260421T114230
CREATED:20250116T215802Z
LAST-MODIFIED:20250116T215802Z
UID:10000814-1744659000-1744664400@www.pba.edu
SUMMARY:Night of Worship
DESCRIPTION:Get ready to experience a powerful evening of worship as PBA’s Worship Ensemble takes you through contemporary worship songs\, classic hymns\, scripture\, prayer\, and much more!\n$15 general admission; PBA students and those 18 & under free \nhttps://www.eventbrite.com/cc/pba-college-of-the-arts-145489
URL:https://www.pba.edu/event/night-of-worship-2/
LOCATION:DeSantis Family Chapel\, 300 Okeechobee Blvd\, West Palm Beach\, FL\, United States
CATEGORIES:Performances
END:VEVENT
BEGIN:VEVENT
DTSTART;TZID=America/New_York:20250422T193000
DTEND;TZID=America/New_York:20250423T193000
DTSTAMP:20260421T114230
CREATED:20250116T215947Z
LAST-MODIFIED:20250415T004328Z
UID:10000815-1745350200-1745436600@www.pba.edu
SUMMARY:PBA Dance Ensemble: Spring Dance Concert
DESCRIPTION:Experience an evening of exceptional dance performances\, showcasing the diverse talents of the PBA Dance Ensemble. Featuring a wide array of dance styles\, including ballet\, contemporary\, jazz\, and more\, this concert will highlight the creativity and artistry of Palm Beach Atlantic University students and faculty. Join us as we celebrate\nthe beauty of movement and the power of artistic expression.\n$25-50 general admission; $8 Students with ID.\nFor tickets\, contact Kravis Center Box Office at 561.832.7469 \nTickets
URL:https://www.pba.edu/event/pba-dance-ensemble-spring-dance-concert/
LOCATION:Rinker Playhouse\, Kravis Center for the Performing Arts
CATEGORIES:Performances
END:VEVENT
BEGIN:VEVENT
DTSTART;TZID=America/New_York:20250424T180000
DTEND;TZID=America/New_York:20250424T193000
DTSTAMP:20260421T114230
CREATED:20250116T220103Z
LAST-MODIFIED:20250116T220103Z
UID:10000816-1745517600-1745523000@www.pba.edu
SUMMARY:Graduating Student Arts Exhibition Opening Reception
DESCRIPTION:On Display April 24 – May 10\, 2025\nStudent showcase featuring the artwork of the Class of 2025. Join us in congratulating the graduating seniors of\nPBA’s Visual Art programs.\nAdmission is free.
URL:https://www.pba.edu/event/graduating-student-arts-exhibition-opening-reception/
LOCATION:Tauni de Lesseps Art Gallery\, Warren Library\, 300 Pembroke P\, West Palm Beach\, FL\, 33401\, United States
CATEGORIES:Performances
END:VEVENT
BEGIN:VEVENT
DTSTART;TZID=America/New_York:20250424T180000
DTEND;TZID=America/New_York:20250510T193000
DTSTAMP:20260421T114230
CREATED:20250205T153018Z
LAST-MODIFIED:20250205T153018Z
UID:10000832-1745517600-1746905400@www.pba.edu
SUMMARY:Student Senior Show
DESCRIPTION:Student showcase featuring the artwork of the Class of 2025. Join us in congratulating the graduating seniors of PBA’s Visual Art programs. \nReception: April 24\, 6 – 7:30 pm
URL:https://www.pba.edu/event/student-senior-show/
LOCATION:Tauni de Lesseps Art Gallery\, Warren Library\, 300 Pembroke P\, West Palm Beach\, FL\, 33401\, United States
CATEGORIES:Performances
ORGANIZER;CN="PBA College of the Arts":MAILTO:ticket_central@pba.edu
END:VEVENT
BEGIN:VEVENT
DTSTART;TZID=America/New_York:20250425T180000
DTEND;TZID=America/New_York:20250425T200000
DTSTAMP:20260421T114230
CREATED:20250116T220308Z
LAST-MODIFIED:20250116T220308Z
UID:10000817-1745604000-1745611200@www.pba.edu
SUMMARY:17th Annual PBA Cinema Showcase
DESCRIPTION:Student showcase featuring the films of our talented cinema students. Join us as we celebrate our students’ work in the big screen!\nTickets $ 8 \nhttps://www.eventbrite.com/cc/pba-college-of-the-arts-145489
URL:https://www.pba.edu/event/17th-annual-pba-cinema-showcase/
LOCATION:Regal Royal Palm Beach Movie Theatre\, 1003 State Road 7\, Royal Palm Beach\, FL\, United States
CATEGORIES:Performances
END:VEVENT
BEGIN:VEVENT
DTSTART;TZID=America/New_York:20250426T193000
DTEND;TZID=America/New_York:20250426T193000
DTSTAMP:20260421T114230
CREATED:20250116T220431Z
LAST-MODIFIED:20250116T220522Z
UID:10000818-1745695800-1745695800@www.pba.edu
SUMMARY:Jazz Ensemble
DESCRIPTION:Join us for a mesmerizing evening where rhythm meets soul on stage. Immerse yourself in the smooth melodies\nand intricate harmonies that define this timeless genre. Prepare to be captivated by a dynamic blend of jazz\nstandards and contemporary favorites\, from impassioned ballads to upbeat swing. Directed by Sam Broomell and\nSonia Santiago. Allow our talented musicians to transport you to a world where improvisation and mellifluous harmonies reign supreme.\n$15 general admission; PBA students and those 18 & under free \nhttps://www.eventbrite.com/cc/pba-college-of-the-arts-145489
URL:https://www.pba.edu/event/jazz-ensemble/
LOCATION:Vera Lea Rinker Hall\, 326 Acacia Rd\, West Palm Beach\, FL\, United States
CATEGORIES:Performances
END:VEVENT
BEGIN:VEVENT
DTSTART;TZID=America/New_York:20250426T193000
DTEND;TZID=America/New_York:20250426T210000
DTSTAMP:20260421T114230
CREATED:20250205T151229Z
LAST-MODIFIED:20250205T151229Z
UID:10000830-1745695800-1745701200@www.pba.edu
SUMMARY:PBA Jazz Ensemble
DESCRIPTION:Jazz concert will include instrumental and vocal groups.
URL:https://www.pba.edu/event/pba-jazz-ensemble/
LOCATION:Helen K. Persson Recital Hall\, 326 Acacia Rd\, West Palm Beach\, FL\, United States
CATEGORIES:Performances
ORGANIZER;CN="PBA College of the Arts":MAILTO:ticket_central@pba.edu
END:VEVENT
END:VCALENDAR