BEGIN:VCALENDAR
VERSION:2.0
PRODID:-//PBA • Palm Beach Atlantic University - ECPv6.15.20//NONSGML v1.0//EN
CALSCALE:GREGORIAN
METHOD:PUBLISH
X-WR-CALNAME:PBA • Palm Beach Atlantic University
X-ORIGINAL-URL:https://www.pba.edu
X-WR-CALDESC:Events for PBA • Palm Beach Atlantic University
REFRESH-INTERVAL;VALUE=DURATION:PT1H
X-Robots-Tag:noindex
X-PUBLISHED-TTL:PT1H
BEGIN:VTIMEZONE
TZID:America/New_York
BEGIN:DAYLIGHT
TZOFFSETFROM:-0500
TZOFFSETTO:-0400
TZNAME:EDT
DTSTART:20240310T070000
END:DAYLIGHT
BEGIN:STANDARD
TZOFFSETFROM:-0400
TZOFFSETTO:-0500
TZNAME:EST
DTSTART:20241103T060000
END:STANDARD
BEGIN:DAYLIGHT
TZOFFSETFROM:-0500
TZOFFSETTO:-0400
TZNAME:EDT
DTSTART:20250309T070000
END:DAYLIGHT
BEGIN:STANDARD
TZOFFSETFROM:-0400
TZOFFSETTO:-0500
TZNAME:EST
DTSTART:20251102T060000
END:STANDARD
BEGIN:DAYLIGHT
TZOFFSETFROM:-0500
TZOFFSETTO:-0400
TZNAME:EDT
DTSTART:20260308T070000
END:DAYLIGHT
BEGIN:STANDARD
TZOFFSETFROM:-0400
TZOFFSETTO:-0500
TZNAME:EST
DTSTART:20261101T060000
END:STANDARD
END:VTIMEZONE
BEGIN:VEVENT
DTSTART;TZID=America/New_York:20251029T150000
DTEND;TZID=America/New_York:20251029T160000
DTSTAMP:20260422T114059
CREATED:20250915T172031Z
LAST-MODIFIED:20250919T184057Z
UID:10000902-1761750000-1761753600@www.pba.edu
SUMMARY:Christian Creedal Unity Series
DESCRIPTION:This series explores the Nicene Creed as a whole\, delving into the relationship between history and theology\, an overview of creeds\, and the role of church councils and synodality in addressing challenges within the church. In this session\, special emphasis will be placed on this portion of the Nicene Creed: “I believe in the Holy Spirit\, the Lord\, the giver of life\, who proceeds from the Father and the Son\, who with the Father and the Son is adored and glorified\, who has spoken through the prophets.” \nThe presentation will be given by Gary Poe\, who will begin with prayer and scripture. \nAfter the presentation\, there will be a 10-minute Q&A before closing in prayer.
URL:https://www.pba.edu/event/christian-creedal-unity-series-2/
LOCATION:DeSantis Family Chapel\, 300 Okeechobee Blvd\, West Palm Beach\, FL\, United States
CATEGORIES:Ministry
END:VEVENT
END:VCALENDAR