BEGIN:VCALENDAR
VERSION:2.0
PRODID:-//PBA • Palm Beach Atlantic University - ECPv6.15.20//NONSGML v1.0//EN
CALSCALE:GREGORIAN
METHOD:PUBLISH
X-ORIGINAL-URL:https://www.pba.edu
X-WR-CALDESC:Events for PBA • Palm Beach Atlantic University
REFRESH-INTERVAL;VALUE=DURATION:PT1H
X-Robots-Tag:noindex
X-PUBLISHED-TTL:PT1H
BEGIN:VTIMEZONE
TZID:America/New_York
BEGIN:DAYLIGHT
TZOFFSETFROM:-0500
TZOFFSETTO:-0400
TZNAME:EDT
DTSTART:20230312T070000
END:DAYLIGHT
BEGIN:STANDARD
TZOFFSETFROM:-0400
TZOFFSETTO:-0500
TZNAME:EST
DTSTART:20231105T060000
END:STANDARD
BEGIN:DAYLIGHT
TZOFFSETFROM:-0500
TZOFFSETTO:-0400
TZNAME:EDT
DTSTART:20240310T070000
END:DAYLIGHT
BEGIN:STANDARD
TZOFFSETFROM:-0400
TZOFFSETTO:-0500
TZNAME:EST
DTSTART:20241103T060000
END:STANDARD
BEGIN:DAYLIGHT
TZOFFSETFROM:-0500
TZOFFSETTO:-0400
TZNAME:EDT
DTSTART:20250309T070000
END:DAYLIGHT
BEGIN:STANDARD
TZOFFSETFROM:-0400
TZOFFSETTO:-0500
TZNAME:EST
DTSTART:20251102T060000
END:STANDARD
END:VTIMEZONE
BEGIN:VEVENT
DTSTART;TZID=America/New_York:20241204T180000
DTEND;TZID=America/New_York:20241204T193000
DTSTAMP:20260423T052453
CREATED:20240911T114731Z
LAST-MODIFIED:20241011T164256Z
UID:10000736-1733335200-1733340600@www.pba.edu
SUMMARY:Freidheim Fellows Presentation
DESCRIPTION:Join us for the annual Freidheim Fellows Presentation.  Freidheim fellows are upperclassmen that concentrate their research study on a topic of great public importance that culminates in a year-end published paper.  Anna Buchanan and Jonathan Snyder are the 2023-2024 Freidheim Fellows presenting their research on their projects. \nRegister Here\n \n \nAnna Buchanan\nTopic:  Civil Asset Forfeiture in the US \n  \n \nJonathan Snyder\nTopic:  Strategies for Cost Reduction in the U.S. Healthcare System \n  \nLearn More Here
URL:https://www.pba.edu/event/freidheim-fellows-presentation/
LOCATION:Weyenberg Center at Palm Beach Atlantic University\, Weyenberg Center\, West Palm Beach\, FL 33401\, West Palm Beach\, FL\, 33401
CATEGORIES:Featured,LeMieux Center
ATTACH;FMTTYPE=image/jpeg:https://www.pba.edu/wp-content/uploads/2024/09/Friedman-Fellows-Presentation-10-24-23_21-3-1.jpg
END:VEVENT
BEGIN:VEVENT
DTSTART;TZID=America/New_York:20241206T160000
DTEND;TZID=America/New_York:20241206T210000
DTSTAMP:20260423T052453
CREATED:20241002T205325Z
LAST-MODIFIED:20241206T175324Z
UID:10000751-1733500800-1733518800@www.pba.edu
SUMMARY:Clinical Mental Health Counseling Program Hooding Ceremony
DESCRIPTION:The Counselor Education Program Hooding Ceremony celebrates Fall graduates completing their degrees. Graduates will be hooded by faculty members\, with family and friends in attendance to offer support. \n  \nWest Palm Beach Registration \n 
URL:https://www.pba.edu/event/clinical-mental-health-counseling-program-hooding-ceremony/
LOCATION:DeSantis Family Chapel\, 300 Okeechobee Blvd\, West Palm Beach\, FL\, United States
CATEGORIES:Featured,Parents & Families,Tree of Life
END:VEVENT
END:VCALENDAR