BEGIN:VCALENDAR
VERSION:2.0
PRODID:-//PBA • Palm Beach Atlantic University - ECPv6.15.20//NONSGML v1.0//EN
CALSCALE:GREGORIAN
METHOD:PUBLISH
X-WR-CALNAME:PBA • Palm Beach Atlantic University
X-ORIGINAL-URL:https://www.pba.edu
X-WR-CALDESC:Events for PBA • Palm Beach Atlantic University
REFRESH-INTERVAL;VALUE=DURATION:PT1H
X-Robots-Tag:noindex
X-PUBLISHED-TTL:PT1H
BEGIN:VTIMEZONE
TZID:America/New_York
BEGIN:DAYLIGHT
TZOFFSETFROM:-0500
TZOFFSETTO:-0400
TZNAME:EDT
DTSTART:20230312T070000
END:DAYLIGHT
BEGIN:STANDARD
TZOFFSETFROM:-0400
TZOFFSETTO:-0500
TZNAME:EST
DTSTART:20231105T060000
END:STANDARD
BEGIN:DAYLIGHT
TZOFFSETFROM:-0500
TZOFFSETTO:-0400
TZNAME:EDT
DTSTART:20240310T070000
END:DAYLIGHT
BEGIN:STANDARD
TZOFFSETFROM:-0400
TZOFFSETTO:-0500
TZNAME:EST
DTSTART:20241103T060000
END:STANDARD
BEGIN:DAYLIGHT
TZOFFSETFROM:-0500
TZOFFSETTO:-0400
TZNAME:EDT
DTSTART:20250309T070000
END:DAYLIGHT
BEGIN:STANDARD
TZOFFSETFROM:-0400
TZOFFSETTO:-0500
TZNAME:EST
DTSTART:20251102T060000
END:STANDARD
END:VTIMEZONE
BEGIN:VEVENT
DTSTART;TZID=America/New_York:20241023T183000
DTEND;TZID=America/New_York:20241023T193000
DTSTAMP:20260423T035942
CREATED:20240911T132225Z
LAST-MODIFIED:20240930T171550Z
UID:10000738-1729708200-1729711800@www.pba.edu
SUMMARY:LeMieux Center Town Hall Meeting
DESCRIPTION:Join the LeMieux Center Town Hall Meeting to discuss the election.  Wendy Sartory Link from the Palm Beach County Supervisor of Elections as well as Dr. Llyod will be leading the discussion. \nRegister Here
URL:https://www.pba.edu/event/lemieux-center-town-hall-meeting/
LOCATION:Lassiter Rotunda\, Warren Library\, 300 Pembroke Pl\, West Palm Beach\, FL\, 33401\, United States
CATEGORIES:Featured,LeMieux Center
END:VEVENT
BEGIN:VEVENT
DTSTART;TZID=America/New_York:20241024T180000
DTEND;TZID=America/New_York:20241024T193000
DTSTAMP:20260423T035942
CREATED:20240919T153015Z
LAST-MODIFIED:20250911T175530Z
UID:10000745-1729792800-1729798200@www.pba.edu
SUMMARY:Rinker College of Business Speaker: Jeff Brams
DESCRIPTION:Speaker Jeff Brams is General Counsel at Drink LMNT. Prior to Drink LMNT\, Jeff most recently served as the Global Head of R&D at Nestle Health Sciences for Garden of Life\, Vital Proteins and Solgar USA. Jeff holds his Juris Doctor from the University of Florida and his Bachelor of Science in Finance and Christian Education from Oral Roberts University. \nJoin us in the Warren Library Lassiter Rotunda at 6 p.m. to hear Jeff speak. \nRegister Here \n  \n 
URL:https://www.pba.edu/event/rinker-school-of-business-speaker-jeff-brams/
LOCATION:Lassiter Rotunda\, Warren Library\, 300 Pembroke Pl\, West Palm Beach\, FL\, 33401\, United States
CATEGORIES:Featured,Parents & Families
ATTACH;FMTTYPE=image/jpeg:https://www.pba.edu/wp-content/uploads/2024/09/Jeff-Brams-Bio-photo.jpg
END:VEVENT
END:VCALENDAR