BEGIN:VCALENDAR
VERSION:2.0
PRODID:-//PBA • Palm Beach Atlantic University - ECPv6.15.20//NONSGML v1.0//EN
CALSCALE:GREGORIAN
METHOD:PUBLISH
X-WR-CALNAME:PBA • Palm Beach Atlantic University
X-ORIGINAL-URL:https://www.pba.edu
X-WR-CALDESC:Events for PBA • Palm Beach Atlantic University
REFRESH-INTERVAL;VALUE=DURATION:PT1H
X-Robots-Tag:noindex
X-PUBLISHED-TTL:PT1H
BEGIN:VTIMEZONE
TZID:America/New_York
BEGIN:DAYLIGHT
TZOFFSETFROM:-0500
TZOFFSETTO:-0400
TZNAME:EDT
DTSTART:20230312T070000
END:DAYLIGHT
BEGIN:STANDARD
TZOFFSETFROM:-0400
TZOFFSETTO:-0500
TZNAME:EST
DTSTART:20231105T060000
END:STANDARD
BEGIN:DAYLIGHT
TZOFFSETFROM:-0500
TZOFFSETTO:-0400
TZNAME:EDT
DTSTART:20240310T070000
END:DAYLIGHT
BEGIN:STANDARD
TZOFFSETFROM:-0400
TZOFFSETTO:-0500
TZNAME:EST
DTSTART:20241103T060000
END:STANDARD
BEGIN:DAYLIGHT
TZOFFSETFROM:-0500
TZOFFSETTO:-0400
TZNAME:EDT
DTSTART:20250309T070000
END:DAYLIGHT
BEGIN:STANDARD
TZOFFSETFROM:-0400
TZOFFSETTO:-0500
TZNAME:EST
DTSTART:20251102T060000
END:STANDARD
BEGIN:DAYLIGHT
TZOFFSETFROM:-0500
TZOFFSETTO:-0400
TZNAME:EDT
DTSTART:20260308T070000
END:DAYLIGHT
BEGIN:STANDARD
TZOFFSETFROM:-0400
TZOFFSETTO:-0500
TZNAME:EST
DTSTART:20261101T060000
END:STANDARD
END:VTIMEZONE
BEGIN:VEVENT
DTSTART;TZID=America/New_York:20250131T160000
DTEND;TZID=America/New_York:20250131T190000
DTSTAMP:20260420T035756
CREATED:20250128T152011Z
LAST-MODIFIED:20250128T152011Z
UID:10000828-1738339200-1738350000@www.pba.edu
SUMMARY:Baseball and Softball Sailgating
DESCRIPTION:Bring your Sailfish Spirit!   Come kick off the season with a doubleheader of our softball and baseball teams! Sailgating festivities will be ongoing between the 4 p.m. softball game and the 6 p.m. softball & baseball games. \nRegister Here \n  \n 
URL:https://www.pba.edu/event/baseball-and-softball-sailgating/
LOCATION:Rinker athletic campus
CATEGORIES:Athletics,Featured
ATTACH;FMTTYPE=image/jpeg:https://www.pba.edu/wp-content/uploads/2024/08/Sailgating-Photo.jpg
END:VEVENT
BEGIN:VEVENT
DTSTART;TZID=America/New_York:20250129T183000
DTEND;TZID=America/New_York:20250129T193000
DTSTAMP:20260420T035756
CREATED:20241216T190624Z
LAST-MODIFIED:20250113T170714Z
UID:10000776-1738175400-1738179000@www.pba.edu
SUMMARY:LeMieux Center Speaker Series: Dr. Robert M. Gates\, Defense Secretary 2006-2011
DESCRIPTION:The Lemieux Center for Public Policy is excited to welcome former U.S. Secretary of Defense Robert M. Gates to campus on January 29! Dr. Gates has led a distinguished career of service and institutional reform both in and out of government\, and served under eight presidents. Dr. Gates was awarded the Presidential Medal of Freedom\, America’s highest civilian honor.  \nRegister Here \n 
URL:https://www.pba.edu/event/lemieux-center-speaker-series-robert-gates-defense-secretary-2006-2011/
LOCATION:DeSantis Family Chapel\, 300 Okeechobee Blvd\, West Palm Beach\, FL\, United States
CATEGORIES:Featured,LeMieux Center
ATTACH;FMTTYPE=image/jpeg:https://www.pba.edu/wp-content/uploads/2024/12/Robert-Gates-SecDef-Headshot-1.jpg
END:VEVENT
BEGIN:VEVENT
DTSTART;TZID=America/New_York:20250123T093000
DTEND;TZID=America/New_York:20250123T113000
DTSTAMP:20260420T035756
CREATED:20241218T200849Z
LAST-MODIFIED:20241218T201549Z
UID:10000780-1737624600-1737631800@www.pba.edu
SUMMARY:MD Anderson Seminar:  Making Cancer History
DESCRIPTION:Exploring the frontiers of cancer therapy.  Join MD Anderson Cancer Center in Palm Beach\, Florida for an opportunity to hear from world-renowned cancer experts as they share the latest breakthrough in impactful cell therapies\, genomic medicine and data science. \nPlease register by January 17. \nRegister Here \n 
URL:https://www.pba.edu/event/md-anderson-seminar-making-cancer-history/
LOCATION:Palm Beach Atlantic University 901 S Flagler Dr West Palm Bch FL\, 33401
CATEGORIES:Featured
END:VEVENT
BEGIN:VEVENT
DTSTART;TZID=America/New_York:20250122T073000
DTEND;TZID=America/New_York:20250126T173000
DTSTAMP:20260420T035756
CREATED:20241016T132601Z
LAST-MODIFIED:20241016T132601Z
UID:10000757-1737531000-1737912600@www.pba.edu
SUMMARY:EMDR Training with Roy Kiessling
DESCRIPTION:Come train with Roy Kiessling from EMDR Consulting for five intensive days.  Gain a sense of competency and become confident by integrating EMDR into your clinical practice. \nRoy will lecture parts 1 & 2 curriculum that will be compressed into a 5-day format during the 5 consecutive days of training (5-Day Intensive). \nOnce the training is completed\, EMDR Consulting includes consultation which starts after the 5-Day Intensive schedule that is included with the training. \nThe registration deadline for this training is January 12\, 2025 @ 11:59 PM EST \nRegister Here \n 
URL:https://www.pba.edu/event/emdr-training-with-roy-kiessling/
LOCATION:FL
CATEGORIES:Featured
END:VEVENT
BEGIN:VEVENT
DTSTART;VALUE=DATE:20250120
DTEND;VALUE=DATE:20250121
DTSTAMP:20260420T035756
CREATED:20241209T144134Z
LAST-MODIFIED:20250115T154329Z
UID:10000774-1737331200-1737417599@www.pba.edu
SUMMARY:MLK Day of Service 2025
DESCRIPTION:Join us in honoring the life and legacy of Rev. Dr. Martin Luther King Jr. through service. On Monday\, January 20\, 2024\, we are partnering with the Jewish Federation of Palm Beach County to serve the Palm Beach County community. All students\, staff\, faculty\, alumni\, friends and family are invited! \nSign Up Here \nRegistration for 2025 MLK Day of Service has been closed.\nWe hope to see you at one of our future events!
URL:https://www.pba.edu/event/mlk-day-of-service-2025/
LOCATION:FL
CATEGORIES:Featured
ATTACH;FMTTYPE=image/png:https://www.pba.edu/wp-content/uploads/2024/12/MLK-Cvent1080-x-700-px-1.png
END:VEVENT
BEGIN:VEVENT
DTSTART;VALUE=DATE:20250119
DTEND;VALUE=DATE:20250120
DTSTAMP:20260420T035756
CREATED:20241206T134128Z
LAST-MODIFIED:20241210T205110Z
UID:10000772-1737244800-1737331199@www.pba.edu
SUMMARY:PBA Night at the Fair
DESCRIPTION:Hosted by the PBA Alumni Association \nTickets are available for PBA alumni\, donors\, employees\, students and parents/family members at a special price of $40 per person. Ticket includes fair entrance and an unlimited ride wristband. The PBA Alumni Association will also host a PBA Social in the Hospitality Center from 6:30-8 p.m. Dinner will be provided. \nThe deadline to purchase tickets is 12 p.m.on January 15.   \nRegister Here \n 
URL:https://www.pba.edu/event/pba-night-at-the-fair/
LOCATION:South Florida Fairgrounds\, 9067 Southern Boulevard\, West Palm Beach\, FL\, United States
CATEGORIES:Featured,Parents & Families
ATTACH;FMTTYPE=image/png:https://www.pba.edu/wp-content/uploads/2024/12/PBA-Night-at-the-Fair-CVent-1920x700-5-1.png
END:VEVENT
BEGIN:VEVENT
DTSTART;VALUE=DATE:20250111
DTEND;VALUE=DATE:20250113
DTSTAMP:20260420T035756
CREATED:20250107T205923Z
LAST-MODIFIED:20250107T212929Z
UID:10000790-1736553600-1736726399@www.pba.edu
SUMMARY:Winter Welcome Weekend
DESCRIPTION:New students and transfers joining us for the Spring 2025 semester: We can’t wait to see you January 11-12\, 2025 for Winter Welcome Weekend! \nRegister Now \nLearn More \n  \nSaturday\, January 11\n\n\n\n\n	Saturday\, January 11\, 2025\n\n\n\n\n	9 a.m. - 5 p.m.Onboarding & Sailfish Start\nFinalize bills\, pick-up ID card\, t-shirt\, fish hat\, swag bag\, schedule\, and more.\nDepartments include:\n-	Admissions\n-	Financial Aid\n-	Student Accounts\n-	PBA Card\n-	Department of Public Safety\n-	SAIL\n-	ITS\n-	Student Success\nAnd more!Lassiter Student Center First Floor\n\n\n	9 a.m. - 4 p.m.Move-InResidence Halls\nCheck in at your residence hall lobby.\n\n\n	3  p.m. - 4:30 p.m.New F1 Visa Student Orientation\nNew international students will gather to learn important information regarding their visas. Students should bring their I-20\, Passport\, Visa and I-94.Warren Library\, The Hanley Classroom\, 1st Floor\n\n\n	5 p.m. – 6:30 p.m.Dinner at the Dining Hall\nUse your meal plan to savor your first dinner at the dining hall\, and enjoy lawn games outside. Meals for family members available for purchase at the door.Fraser Dining Hall and Rinker Green\n\n\n	6:30 p.m.Dessert trip to The Square (students only)\nTake a walk with us to The Square for a free dessert treat!\nMeet at Lassiter Student Center First Floor to walk over together\n\n\n\n\nSunday\, January 12\n\n\n\n\n	Sunday\, January 12\, 2025\n\n\n\n\n	MorningExperience a Local Church of your choiceVarious Locations\nRefer to list of local churches if needed. \n\n\n	NoonLunch available\nMeals for family members available for purchase at the door.Fraser Dining Hall\n\n\n	1 p.m. - 2 p.m.Welcome Program (students & families)\nHear from campus leaders as you begin your Sailfish journey.Weyenberg Center\, Second Floor of Lassiter Student Center\n\n\n	2 p.m. – 3:30 p.m.Workship Project\nGet a start on your first Workship hours with a special group project.\nWeyenberg Center\n(immediately following Welcome Program)\n\n\n\n	3:30 p.m. – 4 p.m.Find Your Classrooms Tour\nVenture across campus with student leaders to make sure you’re all set for your first day of class.\nMeet at Weyenberg Center (immediately following Workship Project)\n\n\n	4 p.m. – 5 p.m. Prayer and Worship Night\nJoin us as we pray for the new semester.DeSantis Family Chapel\n\n\n	5 p.m.Dinner available\nMeals for family members available for purchase at the door.\nFraser Dining Hall
URL:https://www.pba.edu/event/winter-welcome-weekend/
LOCATION:FL
CATEGORIES:Featured
ATTACH;FMTTYPE=image/jpeg:https://www.pba.edu/wp-content/uploads/2023/05/welcome-week-2022-1600x900-1.jpg
END:VEVENT
BEGIN:VEVENT
DTSTART;TZID=America/New_York:20241206T160000
DTEND;TZID=America/New_York:20241206T210000
DTSTAMP:20260420T035756
CREATED:20241002T205325Z
LAST-MODIFIED:20241206T175324Z
UID:10000751-1733500800-1733518800@www.pba.edu
SUMMARY:Clinical Mental Health Counseling Program Hooding Ceremony
DESCRIPTION:The Counselor Education Program Hooding Ceremony celebrates Fall graduates completing their degrees. Graduates will be hooded by faculty members\, with family and friends in attendance to offer support. \n  \nWest Palm Beach Registration \n 
URL:https://www.pba.edu/event/clinical-mental-health-counseling-program-hooding-ceremony/
LOCATION:DeSantis Family Chapel\, 300 Okeechobee Blvd\, West Palm Beach\, FL\, United States
CATEGORIES:Featured,Parents & Families,Tree of Life
END:VEVENT
BEGIN:VEVENT
DTSTART;TZID=America/New_York:20241204T180000
DTEND;TZID=America/New_York:20241204T193000
DTSTAMP:20260420T035756
CREATED:20240911T114731Z
LAST-MODIFIED:20241011T164256Z
UID:10000736-1733335200-1733340600@www.pba.edu
SUMMARY:Freidheim Fellows Presentation
DESCRIPTION:Join us for the annual Freidheim Fellows Presentation.  Freidheim fellows are upperclassmen that concentrate their research study on a topic of great public importance that culminates in a year-end published paper.  Anna Buchanan and Jonathan Snyder are the 2023-2024 Freidheim Fellows presenting their research on their projects. \nRegister Here\n \n \nAnna Buchanan\nTopic:  Civil Asset Forfeiture in the US \n  \n \nJonathan Snyder\nTopic:  Strategies for Cost Reduction in the U.S. Healthcare System \n  \nLearn More Here
URL:https://www.pba.edu/event/freidheim-fellows-presentation/
LOCATION:Weyenberg Center at Palm Beach Atlantic University\, Weyenberg Center\, West Palm Beach\, FL 33401\, West Palm Beach\, FL\, 33401
CATEGORIES:Featured,LeMieux Center
ATTACH;FMTTYPE=image/jpeg:https://www.pba.edu/wp-content/uploads/2024/09/Friedman-Fellows-Presentation-10-24-23_21-3-1.jpg
END:VEVENT
BEGIN:VEVENT
DTSTART;TZID=America/New_York:20241122T090000
DTEND;TZID=America/New_York:20241122T140000
DTSTAMP:20260420T035756
CREATED:20240911T164402Z
LAST-MODIFIED:20241002T162454Z
UID:10000742-1732266000-1732284000@www.pba.edu
SUMMARY:Preview Day
DESCRIPTION:Ready To Be a PBA Sailfish For a Day?! \nPBA’s Preview Day is the best way to fully immerse yourself in the campus experience.\nStudents and Parents will have the opportunity to: \n\nTour the campus\nHear from our chapel band and campus pastor\nConnect with current students\, faculty\, and staff\nLearn more about the admissions and scholarship process\nLearn more about financial aid\, student services\, and so much more!\n\nRegister Here \n 
URL:https://www.pba.edu/event/preview-day-9/
LOCATION:Palm Beach Atlantic University 901 S Flagler Dr West Palm Bch FL\, 33401
CATEGORIES:Admissions,Featured
ATTACH;FMTTYPE=image/jpeg:https://www.pba.edu/wp-content/uploads/2023/06/people-female-individual-bright-fun-downtown-pba-palm-beach-atlantic-university-3-1600x900-1.jpg
END:VEVENT
BEGIN:VEVENT
DTSTART;TZID=America/New_York:20241115T163000
DTEND;TZID=America/New_York:20241115T180000
DTSTAMP:20260420T035756
CREATED:20240916T173529Z
LAST-MODIFIED:20240916T173529Z
UID:10000743-1731688200-1731693600@www.pba.edu
SUMMARY:Sigma Theta Tau Nursing Induction Ceremony
DESCRIPTION:The School of Nursing will host their annual Sigma Theta Tau Honors Society Induction Ceremony for Undergraduate and Graduate nursing students.
URL:https://www.pba.edu/event/sigma-theta-tau-nursing-induction-ceremony/
LOCATION:Lassiter Rotunda\, Warren Library\, 300 Pembroke Pl\, West Palm Beach\, FL\, 33401\, United States
CATEGORIES:Academic Calendar,Featured,Parents & Families
END:VEVENT
BEGIN:VEVENT
DTSTART;TZID=America/New_York:20241114T110000
DTEND;TZID=America/New_York:20241114T120000
DTSTAMP:20260420T035756
CREATED:20241023T162006Z
LAST-MODIFIED:20241023T162017Z
UID:10000758-1731582000-1731585600@www.pba.edu
SUMMARY:American Free Enterprise Day
DESCRIPTION:American Free Enterprise Day (AFE) is a Palm Beach Atlantic University tradition\, dating back to 1984. It is highlighted by a medal ceremony that honors individuals whose hard work and achievement exemplify the best of the American free enterprise system. A medalist of the year is selected and companion medals are awarded to other business leaders as well. \nInformation / Registration Here \n  \n  \n 
URL:https://www.pba.edu/event/american-free-enterprise-day/
LOCATION:Rubin Arena\, 1100 S Dixie Hwy\, West Palm Beach\, FL\, 33403
CATEGORIES:Featured
ATTACH;FMTTYPE=image/jpeg:https://www.pba.edu/wp-content/uploads/2023/06/events-afe-american-free-enterprise-01-palm-beach-atlantic-university-1200x800-1.jpg
END:VEVENT
BEGIN:VEVENT
DTSTART;TZID=America/New_York:20241108T090000
DTEND;TZID=America/New_York:20241108T140000
DTSTAMP:20260420T035756
CREATED:20240325T153158Z
LAST-MODIFIED:20241018T193809Z
UID:10000614-1731056400-1731074400@www.pba.edu
SUMMARY:Health and Science Day
DESCRIPTION:An event for prospective families to hear more about our health and science majors and what they have to offer to students. \nRegister Here
URL:https://www.pba.edu/event/nursing-and-pre-medicine-day/
LOCATION:Upper Weyenberg
CATEGORIES:Admissions,Featured
ATTACH;FMTTYPE=image/jpeg:https://www.pba.edu/wp-content/uploads/2024/09/nursing.jpg
END:VEVENT
BEGIN:VEVENT
DTSTART;TZID=America/New_York:20241024T180000
DTEND;TZID=America/New_York:20241024T193000
DTSTAMP:20260420T035756
CREATED:20240919T153015Z
LAST-MODIFIED:20250911T175530Z
UID:10000745-1729792800-1729798200@www.pba.edu
SUMMARY:Rinker College of Business Speaker: Jeff Brams
DESCRIPTION:Speaker Jeff Brams is General Counsel at Drink LMNT. Prior to Drink LMNT\, Jeff most recently served as the Global Head of R&D at Nestle Health Sciences for Garden of Life\, Vital Proteins and Solgar USA. Jeff holds his Juris Doctor from the University of Florida and his Bachelor of Science in Finance and Christian Education from Oral Roberts University. \nJoin us in the Warren Library Lassiter Rotunda at 6 p.m. to hear Jeff speak. \nRegister Here \n  \n 
URL:https://www.pba.edu/event/rinker-school-of-business-speaker-jeff-brams/
LOCATION:Lassiter Rotunda\, Warren Library\, 300 Pembroke Pl\, West Palm Beach\, FL\, 33401\, United States
CATEGORIES:Featured,Parents & Families
ATTACH;FMTTYPE=image/jpeg:https://www.pba.edu/wp-content/uploads/2024/09/Jeff-Brams-Bio-photo.jpg
END:VEVENT
BEGIN:VEVENT
DTSTART;TZID=America/New_York:20241023T183000
DTEND;TZID=America/New_York:20241023T193000
DTSTAMP:20260420T035756
CREATED:20240911T132225Z
LAST-MODIFIED:20240930T171550Z
UID:10000738-1729708200-1729711800@www.pba.edu
SUMMARY:LeMieux Center Town Hall Meeting
DESCRIPTION:Join the LeMieux Center Town Hall Meeting to discuss the election.  Wendy Sartory Link from the Palm Beach County Supervisor of Elections as well as Dr. Llyod will be leading the discussion. \nRegister Here
URL:https://www.pba.edu/event/lemieux-center-town-hall-meeting/
LOCATION:Lassiter Rotunda\, Warren Library\, 300 Pembroke Pl\, West Palm Beach\, FL\, 33401\, United States
CATEGORIES:Featured,LeMieux Center
END:VEVENT
BEGIN:VEVENT
DTSTART;TZID=America/New_York:20241011T090000
DTEND;TZID=America/New_York:20241011T140000
DTSTAMP:20260420T035756
CREATED:20240325T155439Z
LAST-MODIFIED:20241002T162407Z
UID:10000618-1728637200-1728655200@www.pba.edu
SUMMARY:Preview Day
DESCRIPTION:Ready To Be a PBA Sailfish For a Day?!\nPBA’s Preview day is the best way to fully immerse yourself in the campus experience. Students and Parents will have the opportunity to: \n\nTour the campus\nHear from our chapel band and campus pastor\nConnect with current students\, faculty\, and staff\nLearn more about the admissions and scholarship process\nLearn more about financial aid\, student services\, and so much more!\n\nRegister Here!
URL:https://www.pba.edu/event/preview-day-6/
LOCATION:Palm Beach Atlantic University\, 901 S Flagler Dr\, West Palm Beach\, FL 33401\, West Palm Beach\, 33401\, United States
CATEGORIES:Admissions,Featured
ATTACH;FMTTYPE=image/jpeg:https://www.pba.edu/wp-content/uploads/2023/07/campus-life-admisions-pba-palm-beach-atlantic-university-1600x900-2-copy.jpg
END:VEVENT
BEGIN:VEVENT
DTSTART;TZID=America/New_York:20241004T190000
DTEND;TZID=America/New_York:20241004T210000
DTSTAMP:20260420T035756
CREATED:20240927T132651Z
LAST-MODIFIED:20240927T132651Z
UID:10000748-1728068400-1728075600@www.pba.edu
SUMMARY:Golden Pumpkin Trivia
DESCRIPTION:Join the fall fun as we ring in the season with PBA’s annual tradition of Golden Pumpkin Trivia. Teams of 8 will face off for the Golden Pumpkin Prize! \nRegister Here
URL:https://www.pba.edu/event/golden-pumpkin-trivia/
LOCATION:Upper Weyenberg
CATEGORIES:Featured,Parents & Families
ATTACH;FMTTYPE=image/jpeg:https://www.pba.edu/wp-content/uploads/2024/09/Golden-Pumpkin-Image.jpg
END:VEVENT
BEGIN:VEVENT
DTSTART;TZID=America/New_York:20240920T090000
DTEND;TZID=America/New_York:20240920T140000
DTSTAMP:20260420T035756
CREATED:20240325T155203Z
LAST-MODIFIED:20240716T172053Z
UID:10000617-1726822800-1726840800@www.pba.edu
SUMMARY:Preview Day
DESCRIPTION:Ready To Be a PBA Sailfish For a Day?\nPBA’s Preview Day is the best way to fully immerse yourself in the campus experience. Students and Parents will have the opportunity to: \n\nTour the campus\nHear from our chapel band and campus pastor\nConnect with current students\, faculty\, and staff\nLearn more about the admissions and scholarship process\nLearn more about financial aid\, student services\, and so much more!\n\nRegister Here!
URL:https://www.pba.edu/event/preview-day-5/
LOCATION:Palm Beach Atlantic University\, 901 S Flagler Dr\, West Palm Beach\, FL 33401\, West Palm Beach\, 33401\, United States
CATEGORIES:Admissions,Featured
END:VEVENT
BEGIN:VEVENT
DTSTART;VALUE=DATE:20240422
DTEND;VALUE=DATE:20240427
DTSTAMP:20260420T035756
CREATED:20240410T183608Z
LAST-MODIFIED:20240410T183608Z
UID:10000635-1713744000-1714175999@www.pba.edu
SUMMARY:Earth Week
DESCRIPTION:
URL:https://www.pba.edu/event/earth-week/
LOCATION:FL
CATEGORIES:Featured
END:VEVENT
END:VCALENDAR