BEGIN:VCALENDAR
VERSION:2.0
PRODID:-//PBA • Palm Beach Atlantic University - ECPv6.15.20//NONSGML v1.0//EN
CALSCALE:GREGORIAN
METHOD:PUBLISH
X-ORIGINAL-URL:https://www.pba.edu
X-WR-CALDESC:Events for PBA • Palm Beach Atlantic University
REFRESH-INTERVAL;VALUE=DURATION:PT1H
X-Robots-Tag:noindex
X-PUBLISHED-TTL:PT1H
BEGIN:VTIMEZONE
TZID:America/New_York
BEGIN:DAYLIGHT
TZOFFSETFROM:-0500
TZOFFSETTO:-0400
TZNAME:EDT
DTSTART:20240310T070000
END:DAYLIGHT
BEGIN:STANDARD
TZOFFSETFROM:-0400
TZOFFSETTO:-0500
TZNAME:EST
DTSTART:20241103T060000
END:STANDARD
BEGIN:DAYLIGHT
TZOFFSETFROM:-0500
TZOFFSETTO:-0400
TZNAME:EDT
DTSTART:20250309T070000
END:DAYLIGHT
BEGIN:STANDARD
TZOFFSETFROM:-0400
TZOFFSETTO:-0500
TZNAME:EST
DTSTART:20251102T060000
END:STANDARD
BEGIN:DAYLIGHT
TZOFFSETFROM:-0500
TZOFFSETTO:-0400
TZNAME:EDT
DTSTART:20260308T070000
END:DAYLIGHT
BEGIN:STANDARD
TZOFFSETFROM:-0400
TZOFFSETTO:-0500
TZNAME:EST
DTSTART:20261101T060000
END:STANDARD
BEGIN:DAYLIGHT
TZOFFSETFROM:-0500
TZOFFSETTO:-0400
TZNAME:EDT
DTSTART:20270314T070000
END:DAYLIGHT
BEGIN:STANDARD
TZOFFSETFROM:-0400
TZOFFSETTO:-0500
TZNAME:EST
DTSTART:20271107T060000
END:STANDARD
END:VTIMEZONE
BEGIN:VEVENT
DTSTART;TZID=America/New_York:20250915T080000
DTEND;TZID=America/New_York:20250917T170000
DTSTAMP:20260422T184327
CREATED:20250902T200057Z
LAST-MODIFIED:20250916T163342Z
UID:10000888-1757923200-1758128400@www.pba.edu
SUMMARY:Christival
DESCRIPTION:Join us praising the Lord and learning about Him through song and engaging talks given by some of the most dynamic Christian leaders in the world.  Christival\, a long-standing PBA tradition of praise\, worship and learning.
URL:https://www.pba.edu/event/christival/
LOCATION:Rubin Arena\, 1100 S Dixie Hwy\, West Palm Beach\, FL\, 33403
CATEGORIES:Featured
ATTACH;FMTTYPE=image/png:https://www.pba.edu/wp-content/uploads/2025/09/V3_2025_christival-2-1.png
END:VEVENT
BEGIN:VEVENT
DTSTART;VALUE=DATE:20250927
DTEND;VALUE=DATE:20250929
DTSTAMP:20260422T184327
CREATED:20250815T131421Z
LAST-MODIFIED:20250815T131421Z
UID:10000857-1758931200-1759103999@www.pba.edu
SUMMARY:Hispanic Heritage Festival
DESCRIPTION:
URL:https://www.pba.edu/event/hispanic-heritage-festival/
CATEGORIES:Featured,Music,Performances
END:VEVENT
BEGIN:VEVENT
DTSTART;TZID=America/New_York:20251018T090000
DTEND;TZID=America/New_York:20251018T230000
DTSTAMP:20260422T184327
CREATED:20250829T174837Z
LAST-MODIFIED:20250929T131919Z
UID:10000887-1760778000-1760828400@www.pba.edu
SUMMARY:Continued Learning Courses with the Counselor Education Program
DESCRIPTION:Join us as Pastor Todd Mullins from Christ Fellowship discusses his latest book\, “Don’t Let Doubt Take You Out: Replacing Fear and Doubt with Faith and Truth\,” and offers a clinical perspective on practical issues. \nFree admission and breakfast  \nRegister Here \n 
URL:https://www.pba.edu/event/continue-learning-courses-with-the-counselor-education-program/
LOCATION:Weyenberg Center at Palm Beach Atlantic University\, Weyenberg Center\, West Palm Beach\, FL 33401\, West Palm Beach\, FL\, 33401
CATEGORIES:Featured
ATTACH;FMTTYPE=image/jpeg:https://www.pba.edu/wp-content/uploads/2025/08/ToddMullinsHeadshot-1-scaled-e1758806734786.jpg
END:VEVENT
BEGIN:VEVENT
DTSTART;TZID=America/New_York:20251113T110000
DTEND;TZID=America/New_York:20251113T120000
DTSTAMP:20260422T184327
CREATED:20250910T214009Z
LAST-MODIFIED:20250910T214009Z
UID:10000894-1763031600-1763035200@www.pba.edu
SUMMARY:American Free Enterprise Day
DESCRIPTION:American Free Enterprise Day (AFE) is a Palm Beach Atlantic University tradition\, dating back to 1984. It is highlighted by a medal ceremony that honors individuals whose hard work and achievement exemplify the best of the American free enterprise system. A medalist of the year is selected and companion medals are awarded to other business leaders as well. \nInformation / Registration Here \n  \n  \n 
URL:https://www.pba.edu/event/american-free-enterprise-day-2/
LOCATION:Rubin Arena\, 1100 S Dixie Hwy\, West Palm Beach\, FL\, 33403
CATEGORIES:Featured
ATTACH;FMTTYPE=image/jpeg:https://www.pba.edu/wp-content/uploads/2023/06/events-afe-american-free-enterprise-01-palm-beach-atlantic-university-1200x800-1.jpg
END:VEVENT
BEGIN:VEVENT
DTSTART;TZID=America/New_York:20251119T180000
DTEND;TZID=America/New_York:20251119T193000
DTSTAMP:20260422T184327
CREATED:20251023T173348Z
LAST-MODIFIED:20251114T164410Z
UID:10000913-1763575200-1763580600@www.pba.edu
SUMMARY:Freidheim Fellows Presentation
DESCRIPTION:Join us for the annual Freidheim Fellows Presentation!  Freidheim fellows are upperclassmen that concentrate their research study on a topic of great public importance that culminates in a year-end published paper. \nThis year\, Anna Foreman will be speaking on “Social Security Reform” and Leah Wilhout will be speaking on “Regulations for Artificial Intelligence (AI)”. \nRegister Here \n 
URL:https://www.pba.edu/event/freidheim-fellows-presentation-2/
LOCATION:Warren Library Rotunda\, 300 Pembroke Pl\, West Palm Beach\, FL\, 33403\, United States
CATEGORIES:Featured,LeMieux Center
ATTACH;FMTTYPE=image/png:https://www.pba.edu/wp-content/uploads/2025/10/event-calendar-e1763138630928.png
END:VEVENT
BEGIN:VEVENT
DTSTART;VALUE=DATE:20260119
DTEND;VALUE=DATE:20260120
DTSTAMP:20260422T184327
CREATED:20260106T213410Z
LAST-MODIFIED:20260123T195320Z
UID:10000923-1768780800-1768867199@www.pba.edu
SUMMARY:MLK Day of Service 2026
DESCRIPTION:Join us in honoring the life and legacy of Rev. Dr. Martin Luther King Jr. through service. On Monday\, January 19\, 2026\, we are partnering with the Jewish Federation of Palm Beach County to serve the Palm Beach County community. All students\, staff\, faculty\, alumni\, friends and family are invited! \n  \n\n\n 
URL:https://www.pba.edu/event/mlk-day-of-service-2026/
CATEGORIES:Featured
ATTACH;FMTTYPE=image/png:https://www.pba.edu/wp-content/uploads/2026/01/MLK-CVent-2026-e1767735218492.png
END:VEVENT
BEGIN:VEVENT
DTSTART;TZID=America/New_York:20260203T160000
DTEND;TZID=America/New_York:20260203T173000
DTSTAMP:20260422T184327
CREATED:20260113T201049Z
LAST-MODIFIED:20260113T201049Z
UID:10000954-1770134400-1770139800@www.pba.edu
SUMMARY:Physician Associate Medicine Program Ribbon Cutting
DESCRIPTION:Join us as we formally recognize the new Physician Associate Medicine program and highlight what’s ahead for PBA in the health sciences. \nRegister Here \n  \n 
URL:https://www.pba.edu/event/physician-associate-medicine-program-ribbon-cutting/
LOCATION:2751 S Dixie Hwy\, Suite 300
CATEGORIES:Featured
END:VEVENT
BEGIN:VEVENT
DTSTART;TZID=America/New_York:20260206T110000
DTEND;TZID=America/New_York:20260206T120000
DTSTAMP:20260422T184327
CREATED:20260106T220102Z
LAST-MODIFIED:20260129T142154Z
UID:10000924-1770375600-1770379200@www.pba.edu
SUMMARY:Founders Day
DESCRIPTION:Join us during Homecoming and Family Weekend to celebrate Founders Day at Palm Beach Atlantic University. Founders Day is a time to reflect with gratitude on God’s work through our dedicated founders to establish our Christ-first university. We’ll also honor Mike Donehey\, lead singer of Tenth Avenue North\, as Alumnus of the Year! \n\n\n\n\nFounders Day Chapel | 11 a.m.\nFamily Church Downtown\n \n\n\n\n\nRegistration for this event is part of Homecoming and Family Weekend.  We hope to see you there! \nRegister Here \n  \n 
URL:https://www.pba.edu/event/founders-day-2/
CATEGORIES:Featured,Parents & Families
ATTACH;FMTTYPE=image/png:https://www.pba.edu/wp-content/uploads/2026/01/HFW_Founders-Day_Screens-e1767819082773.png
END:VEVENT
BEGIN:VEVENT
DTSTART;TZID=America/New_York:20260209T190000
DTEND;TZID=America/New_York:20260209T210000
DTSTAMP:20260422T184327
CREATED:20241029T142207Z
LAST-MODIFIED:20260107T152402Z
UID:10000759-1770663600-1770670800@www.pba.edu
SUMMARY:Provost's Distinguished Scholar Lecture
DESCRIPTION:Join us for an evening with Malcolm Guite as he explores how poetry offers vision and renewal. An acclaimed English poet\, Anglican priest\, and academic\, his work explores theology and the arts. His forthcoming work\, “Merlin’s Isle: An Arthuriad\,” launches a four-volume epic retelling of the Arthurian legends of the Holy Grail.\nAttendees are encouraged to dress in semi-formal attire.
URL:https://www.pba.edu/event/provosts-distinguished-scholar-lecture/
LOCATION:DeSantis Family Chapel\, 300 Okeechobee Blvd\, West Palm Beach\, FL\, United States
CATEGORIES:Academic Calendar,Featured,Parents & Families
ATTACH;FMTTYPE=image/jpeg:https://www.pba.edu/wp-content/uploads/2024/10/Malcolm-Garden-Shot.jpg
END:VEVENT
BEGIN:VEVENT
DTSTART;TZID=America/New_York:20260210T180000
DTEND;TZID=America/New_York:20260210T193000
DTSTAMP:20260422T184327
CREATED:20260128T194809Z
LAST-MODIFIED:20260209T150846Z
UID:10000963-1770746400-1770751800@www.pba.edu
SUMMARY:Turning Point USA- Riley Gaines & Seth Dillon
DESCRIPTION:Pick Up The Mic with Riley Gaines and Seth Dillon \nRegister Here \n  \n 
URL:https://www.pba.edu/event/turning-point-usa-riley-gaines-seth-dillon/
LOCATION:Weyenberg Center at Palm Beach Atlantic University\, Weyenberg Center\, West Palm Beach\, FL 33401\, West Palm Beach\, FL\, 33401
CATEGORIES:Featured
END:VEVENT
BEGIN:VEVENT
DTSTART;TZID=America/New_York:20260219T083000
DTEND;TZID=America/New_York:20260220T170000
DTSTAMP:20260422T184327
CREATED:20260114T163351Z
LAST-MODIFIED:20260216T212231Z
UID:10000956-1771489800-1771606800@www.pba.edu
SUMMARY:2026 Faith and Culture Forum
DESCRIPTION:Reimagining Wholeness and Holiness: Disability\, Neurodivergence\, and the Church\nThe 2026 Faith and Culture Forum brings together scholars\, practitioners\, and community members to discuss disability\, neurodivergence\, and the church. The conference features keynote addresses from Dr. Grant McCaskill\, Lightfoot Professor of Divinity at Durham University\, Dr. Thomas Boehm\, Director of Wheaton Center for Faith and Disability at Wheaton College\, and Founder & Director of Faith for ALL\, and Dr. Benjamin Conner\, Professor of Practical Theology and Director of the Center for Disability and Ministry at Western Theological Seminary. \nIn addition to the keynotes\, the event will host paper panels and workshops with presentations from PBA students\, disability ministries\, and Dr. Lamar Hardwick\, the “Autism Pastor.”  These discussions aim to foster meaningful dialogue and offer practical resources for church and community leaders\, as well as individuals interested in the intersection of faith and disability. \nDuring the workshops and panel presentations\, local vendors and support services will be set up to share about the work they do to support individuals with intellectual and developmental disabilities and their caregivers. Join us on the Baxter Green to engage with the excellent work of these local organizations. \nOn the evening of February 19\, we invite you to join us for an inclusive worship service led by PBA faculty\, staff\, and students. This will be an opportunity to engage insights from the day’s presentations and experience worship from new points of view. \nWe look forward to welcoming you to the 2026 Faith and Culture Forum: Reimagining Wholeness and Holiness. \nRegister Here \n   \n\nThe conference is a joint effort between PBA’s Community Transformation Center\, the School of Ministry  \n\n 
URL:https://www.pba.edu/event/2026-faith-and-culture-forum/
LOCATION:Palm Beach Atlantic University\, 901 S Flagler Dr\, West Palm Beach\, FL 33401\, West Palm Beach\, 33401\, United States
CATEGORIES:Featured,Ministry
ATTACH;FMTTYPE=image/png:https://www.pba.edu/wp-content/uploads/2026/01/Reimagining-Wholeness-and-Holiness-1920-x-700-px-1-2-1-e1768408289533.png
END:VEVENT
BEGIN:VEVENT
DTSTART;TZID=America/New_York:20260226T183000
DTEND;TZID=America/New_York:20260226T193000
DTSTAMP:20260422T184327
CREATED:20250926T124413Z
LAST-MODIFIED:20260218T194808Z
UID:10000906-1772130600-1772134200@www.pba.edu
SUMMARY:LeMieux Center Speakers: Secretary Mike Pompeo and Secretary John Kerry
DESCRIPTION:The LeMieux Center for Public Policy invites you to hear from Sec. Mike Pompeo: 70th U.S. Secretary of State (2018-2021)\, Former Director of the CIA (2017-2018) and Sec. John Kerry: 68th U.S. Secretary of State (2013-2017)\, Special Presidential Envoy for Climate (2021-2024) at Palm Beach Atlantic University. \nRegistration is required to attend this event. \nRegister Here
URL:https://www.pba.edu/event/lemieux-center-speaker-secretary-mike-pompeo-and-secretary-john-kerry/
LOCATION:DeSantis Chapel
CATEGORIES:Featured,LeMieux Center
END:VEVENT
BEGIN:VEVENT
DTSTART;TZID=America/New_York:20260227T110000
DTEND;TZID=America/New_York:20260227T120000
DTSTAMP:20260422T184327
CREATED:20260114T144719Z
LAST-MODIFIED:20260120T163509Z
UID:10000955-1772190000-1772193600@www.pba.edu
SUMMARY:Gregory Center Medical Missions Annual Forum
DESCRIPTION:Join us in welcoming Dr. Hannah Morris (Class of 2015) as the featured speaker for the Gregory Center for Medical Missions Annual Forum\, a chapel service hosted by the Gregory School of Pharmacy that highlights medical missions and service. \nDr. Morris has used her training in pharmacy to serve the Lord through long-term medical missions. Her work has taken her to regions around the world\, including areas with significant security challenges such as Turkey\, Ukraine\, Syria\, Sudan\, and throughout Latin America. \nRegister Here
URL:https://www.pba.edu/event/gregory-center-medical-missions-annual-forum/
LOCATION:Gregory Hall
CATEGORIES:Featured
END:VEVENT
BEGIN:VEVENT
DTSTART;TZID=America/New_York:20260322T150000
DTEND;TZID=America/New_York:20260322T170000
DTSTAMP:20260422T184327
CREATED:20260310T155454Z
LAST-MODIFIED:20260310T160451Z
UID:10000969-1774191600-1774198800@www.pba.edu
SUMMARY:Robert Sharon Chorale Benefit Concert
DESCRIPTION:Choral Concert and Scholarship Program to benefit a local High School
URL:https://www.pba.edu/event/robert-sharon-chorale-benefit-concert/
LOCATION:DeSantis Family Chapel\, 300 Okeechobee Blvd\, West Palm Beach\, FL\, United States
CATEGORIES:Featured,Music
END:VEVENT
BEGIN:VEVENT
DTSTART;TZID=America/New_York:20260324T083000
DTEND;TZID=America/New_York:20260325T170000
DTSTAMP:20260422T184327
CREATED:20260305T203147Z
LAST-MODIFIED:20260323T154718Z
UID:10000966-1774341000-1774458000@www.pba.edu
SUMMARY:15th Annual PBA Interdisciplinary Research Conference
DESCRIPTION:The Interdisciplinary Research Conference highlights the scholarly and creative work of students and faculty across all disciplines. Participants present research broadly defined from scientific studies to artistic expression and applied projects fostering collaboration\, intellectual exchange\, and the advancement of knowledge across campus.
URL:https://www.pba.edu/event/15th-annual-pba-interdisciplinary-research-conference/
LOCATION:Lassiter Rotunda\, Warren Library
CATEGORIES:Featured
ATTACH;FMTTYPE=image/jpeg:https://www.pba.edu/wp-content/uploads/2025/03/IRC-Interdisciplinary-Research-Conference-2025-1600x900-1.jpg
END:VEVENT
BEGIN:VEVENT
DTSTART;VALUE=DATE:20260424
DTEND;VALUE=DATE:20260425
DTSTAMP:20260422T184327
CREATED:20260112T224914Z
LAST-MODIFIED:20260401T205533Z
UID:10000943-1776988800-1777075199@www.pba.edu
SUMMARY:18th Annual PBA Cinema Showcase
DESCRIPTION:Join us as we celebrate the creativity and talent of our cinema students\, featuring their films on the big screen! \nTickets: $8 General Admission\nShowtimes: 6 p.m. and 8 p.m. \nGet Tickets \nUnderwritten by:
URL:https://www.pba.edu/event/18th-annual-pba-cinema-showcase/
LOCATION:Regal Royal Palm Beach Movie Theatre\, 1003 State Road 7\, Royal Palm Beach\, FL\, United States
CATEGORIES:Featured,Performances,Theater
END:VEVENT
BEGIN:VEVENT
DTSTART;TZID=America/New_York:20260501T090000
DTEND;TZID=America/New_York:20260501T150000
DTSTAMP:20260422T184327
CREATED:20260313T161104Z
LAST-MODIFIED:20260313T161104Z
UID:10000973-1777626000-1777647600@www.pba.edu
SUMMARY:O-FISH-AL Day
DESCRIPTION:O-Fish-al Day is a special celebration for students who have committed to PBA and for those still making their final decision to explore life as a Sailfish. \nRegister Here \n 
URL:https://www.pba.edu/event/o-fish-al-day/
LOCATION:Palm Beach Atlantic University 901 S Flagler Dr West Palm Bch FL\, 33401
CATEGORIES:Admissions,Featured
ATTACH;FMTTYPE=image/jpeg:https://www.pba.edu/wp-content/uploads/2024/08/30-240314_063-1-scaled-e1773418178253.jpg
END:VEVENT
BEGIN:VEVENT
DTSTART;VALUE=DATE:20260507
DTEND;VALUE=DATE:20260509
DTSTAMP:20260422T184327
CREATED:20260306T161430Z
LAST-MODIFIED:20260306T161430Z
UID:10000967-1778112000-1778284799@www.pba.edu
SUMMARY:Commencement Events 2026
DESCRIPTION:Celebrate the class of 2026 at the Commencement celebrations! Visit the Grad Guide for details. \nGrad Guide
URL:https://www.pba.edu/event/commencement-events-2026/
LOCATION:Palm Beach Atlantic University 901 S Flagler Dr West Palm Bch FL\, 33401
CATEGORIES:Academic Calendar,Featured
ATTACH;FMTTYPE=image/jpeg:https://www.pba.edu/wp-content/uploads/2025/05/PBA-Commencement-2025-B-1600x900-1.jpg
END:VEVENT
END:VCALENDAR