BEGIN:VCALENDAR
VERSION:2.0
PRODID:-//PBA • Palm Beach Atlantic University - ECPv6.15.20//NONSGML v1.0//EN
CALSCALE:GREGORIAN
METHOD:PUBLISH
X-ORIGINAL-URL:https://www.pba.edu
X-WR-CALDESC:Events for PBA • Palm Beach Atlantic University
REFRESH-INTERVAL;VALUE=DURATION:PT1H
X-Robots-Tag:noindex
X-PUBLISHED-TTL:PT1H
BEGIN:VTIMEZONE
TZID:America/New_York
BEGIN:DAYLIGHT
TZOFFSETFROM:-0500
TZOFFSETTO:-0400
TZNAME:EDT
DTSTART:20240310T070000
END:DAYLIGHT
BEGIN:STANDARD
TZOFFSETFROM:-0400
TZOFFSETTO:-0500
TZNAME:EST
DTSTART:20241103T060000
END:STANDARD
BEGIN:DAYLIGHT
TZOFFSETFROM:-0500
TZOFFSETTO:-0400
TZNAME:EDT
DTSTART:20250309T070000
END:DAYLIGHT
BEGIN:STANDARD
TZOFFSETFROM:-0400
TZOFFSETTO:-0500
TZNAME:EST
DTSTART:20251102T060000
END:STANDARD
BEGIN:DAYLIGHT
TZOFFSETFROM:-0500
TZOFFSETTO:-0400
TZNAME:EDT
DTSTART:20260308T070000
END:DAYLIGHT
BEGIN:STANDARD
TZOFFSETFROM:-0400
TZOFFSETTO:-0500
TZNAME:EST
DTSTART:20261101T060000
END:STANDARD
END:VTIMEZONE
BEGIN:VEVENT
DTSTART;TZID=America/New_York:20250228T110000
DTEND;TZID=America/New_York:20250228T133000
DTSTAMP:20260422T212726
CREATED:20250206T150355Z
LAST-MODIFIED:20250224T205406Z
UID:10000834-1740740400-1740749400@www.pba.edu
SUMMARY:Founders Day
DESCRIPTION:Join us during Homecoming and Family Weekend to celebrate Founders Day at Palm Beach Atlantic University. Founders Day is a time to reflect with gratitude on God’s work through our dedicated founders to establish our Christ-first university. \n  \n\n\n\n\n \nFounders Day Chapel | 11 a.m.\nFamily Church Downtown\n \n\n\n\n\nJoin us for a special service celebrating the Distinguished Alumni Award recipients Jennifer Rothschild\, class of 1986\, and Philip Rothschild\, class of 1985. \nJennifer and Philip Rothschild are PBA alumni dedicated to faith\, education and leadership. Jennifer\, a 1986 PBA graduate\, is a bestselling author\, Bible teacher and founder of Fresh Grounded Faith women’s conferences\, encouraging women through Kingdom-minded events. Dr. Philip Rothschild\, a respected educator with a PhD from Florida State\, has shaped future leaders in strategic and talent management\, earning recognition for his excellence in teaching at Missouri State University. Together\, they founded the womensministry.net Leadership Library in 1998\, a resource to equip women in ministry to lead well. \n  \n\n\n\n\n \nFounders Day Luncheon | 12 p.m.\nWeyenberg Center\n \n\n\n\n\nTogether\, we will honor Dr. William “Bill” M. B. Fleming\, Jr.\, former president of PBA\, with a celebratory luncheon and reveal his official presidential portrait. \nDr. Fleming served as president for eight years\, after serving as vice president of development and interim president\, first joining PBA in 1992. Under his leadership\, PBA’s programs and campus footprint expanded\, including the establishment of the Marshall and Vera Lea Rinker Athletic Campus. Dr. Fleming has a great love for the PBA community and\, upon his retirement\, established a scholarship for students leading through Workship\, PBA’s signature community-service program.  \n  \nRegistration for this event is part of Homecoming and Family Weekend.  We hope to see you there! \nRegister Here \n 
URL:https://www.pba.edu/event/founders-day/
CATEGORIES:Featured,Parents & Families
ATTACH;FMTTYPE=image/jpeg:https://www.pba.edu/wp-content/uploads/2025/02/Founders-Day-2025-1600x900-1.jpg
END:VEVENT
END:VCALENDAR