BEGIN:VCALENDAR
VERSION:2.0
PRODID:-//PBA • Palm Beach Atlantic University - ECPv6.15.20//NONSGML v1.0//EN
CALSCALE:GREGORIAN
METHOD:PUBLISH
X-WR-CALNAME:PBA • Palm Beach Atlantic University
X-ORIGINAL-URL:https://www.pba.edu
X-WR-CALDESC:Events for PBA • Palm Beach Atlantic University
REFRESH-INTERVAL;VALUE=DURATION:PT1H
X-Robots-Tag:noindex
X-PUBLISHED-TTL:PT1H
BEGIN:VTIMEZONE
TZID:America/New_York
BEGIN:DAYLIGHT
TZOFFSETFROM:-0500
TZOFFSETTO:-0400
TZNAME:EDT
DTSTART:20240310T070000
END:DAYLIGHT
BEGIN:STANDARD
TZOFFSETFROM:-0400
TZOFFSETTO:-0500
TZNAME:EST
DTSTART:20241103T060000
END:STANDARD
BEGIN:DAYLIGHT
TZOFFSETFROM:-0500
TZOFFSETTO:-0400
TZNAME:EDT
DTSTART:20250309T070000
END:DAYLIGHT
BEGIN:STANDARD
TZOFFSETFROM:-0400
TZOFFSETTO:-0500
TZNAME:EST
DTSTART:20251102T060000
END:STANDARD
BEGIN:DAYLIGHT
TZOFFSETFROM:-0500
TZOFFSETTO:-0400
TZNAME:EDT
DTSTART:20260308T070000
END:DAYLIGHT
BEGIN:STANDARD
TZOFFSETFROM:-0400
TZOFFSETTO:-0500
TZNAME:EST
DTSTART:20261101T060000
END:STANDARD
END:VTIMEZONE
BEGIN:VEVENT
DTSTART;TZID=America/New_York:20250122T073000
DTEND;TZID=America/New_York:20250126T173000
DTSTAMP:20260423T001913
CREATED:20241016T132601Z
LAST-MODIFIED:20241016T132601Z
UID:10000757-1737531000-1737912600@www.pba.edu
SUMMARY:EMDR Training with Roy Kiessling
DESCRIPTION:Come train with Roy Kiessling from EMDR Consulting for five intensive days.  Gain a sense of competency and become confident by integrating EMDR into your clinical practice. \nRoy will lecture parts 1 & 2 curriculum that will be compressed into a 5-day format during the 5 consecutive days of training (5-Day Intensive). \nOnce the training is completed\, EMDR Consulting includes consultation which starts after the 5-Day Intensive schedule that is included with the training. \nThe registration deadline for this training is January 12\, 2025 @ 11:59 PM EST \nRegister Here \n 
URL:https://www.pba.edu/event/emdr-training-with-roy-kiessling/
CATEGORIES:Featured
END:VEVENT
END:VCALENDAR