BEGIN:VCALENDAR
VERSION:2.0
PRODID:-//PBA • Palm Beach Atlantic University - ECPv6.15.20//NONSGML v1.0//EN
CALSCALE:GREGORIAN
METHOD:PUBLISH
X-WR-CALNAME:PBA • Palm Beach Atlantic University
X-ORIGINAL-URL:https://www.pba.edu
X-WR-CALDESC:Events for PBA • Palm Beach Atlantic University
REFRESH-INTERVAL;VALUE=DURATION:PT1H
X-Robots-Tag:noindex
X-PUBLISHED-TTL:PT1H
BEGIN:VTIMEZONE
TZID:America/New_York
BEGIN:DAYLIGHT
TZOFFSETFROM:-0500
TZOFFSETTO:-0400
TZNAME:EDT
DTSTART:20250309T070000
END:DAYLIGHT
BEGIN:STANDARD
TZOFFSETFROM:-0400
TZOFFSETTO:-0500
TZNAME:EST
DTSTART:20251102T060000
END:STANDARD
BEGIN:DAYLIGHT
TZOFFSETFROM:-0500
TZOFFSETTO:-0400
TZNAME:EDT
DTSTART:20260308T070000
END:DAYLIGHT
BEGIN:STANDARD
TZOFFSETFROM:-0400
TZOFFSETTO:-0500
TZNAME:EST
DTSTART:20261101T060000
END:STANDARD
BEGIN:DAYLIGHT
TZOFFSETFROM:-0500
TZOFFSETTO:-0400
TZNAME:EDT
DTSTART:20270314T070000
END:DAYLIGHT
BEGIN:STANDARD
TZOFFSETFROM:-0400
TZOFFSETTO:-0500
TZNAME:EST
DTSTART:20271107T060000
END:STANDARD
END:VTIMEZONE
BEGIN:VEVENT
DTSTART;TZID=America/New_York:20260130T090000
DTEND;TZID=America/New_York:20260130T140000
DTSTAMP:20260421T100446
CREATED:20251010T133941Z
LAST-MODIFIED:20251013T162516Z
UID:10000908-1769763600-1769781600@www.pba.edu
SUMMARY:Preview Day
DESCRIPTION:Ready To Be a PBA Sailfish For a Day?!\nPBA’s Preview Day is the best way to fully immerse yourself in the campus experience.\nStudents and Parents will have the opportunity to: \n\nTour the campus\nHear from our chapel band and campus pastor\nConnect with current students\, faculty\, and staff\nLearn more about the admissions and scholarship process\nLearn more about financial aid\, student services\, and so much more!\n\nRegister Here \n 
URL:https://www.pba.edu/event/preview-day-3/
CATEGORIES:Admissions
ATTACH;FMTTYPE=image/jpeg:https://www.pba.edu/wp-content/uploads/2023/06/people-female-individual-bright-fun-downtown-pba-palm-beach-atlantic-university-3-1200x800-1.jpg
END:VEVENT
END:VCALENDAR