BEGIN:VCALENDAR
VERSION:2.0
PRODID:-//PBA • Palm Beach Atlantic University - ECPv6.15.20//NONSGML v1.0//EN
CALSCALE:GREGORIAN
METHOD:PUBLISH
X-WR-CALNAME:PBA • Palm Beach Atlantic University
X-ORIGINAL-URL:https://www.pba.edu
X-WR-CALDESC:Events for PBA • Palm Beach Atlantic University
REFRESH-INTERVAL;VALUE=DURATION:PT1H
X-Robots-Tag:noindex
X-PUBLISHED-TTL:PT1H
BEGIN:VTIMEZONE
TZID:America/New_York
BEGIN:DAYLIGHT
TZOFFSETFROM:-0500
TZOFFSETTO:-0400
TZNAME:EDT
DTSTART:20240310T070000
END:DAYLIGHT
BEGIN:STANDARD
TZOFFSETFROM:-0400
TZOFFSETTO:-0500
TZNAME:EST
DTSTART:20241103T060000
END:STANDARD
BEGIN:DAYLIGHT
TZOFFSETFROM:-0500
TZOFFSETTO:-0400
TZNAME:EDT
DTSTART:20250309T070000
END:DAYLIGHT
BEGIN:STANDARD
TZOFFSETFROM:-0400
TZOFFSETTO:-0500
TZNAME:EST
DTSTART:20251102T060000
END:STANDARD
BEGIN:DAYLIGHT
TZOFFSETFROM:-0500
TZOFFSETTO:-0400
TZNAME:EDT
DTSTART:20260308T070000
END:DAYLIGHT
BEGIN:STANDARD
TZOFFSETFROM:-0400
TZOFFSETTO:-0500
TZNAME:EST
DTSTART:20261101T060000
END:STANDARD
END:VTIMEZONE
BEGIN:VEVENT
DTSTART;TZID=America/New_York:20251121T090000
DTEND;TZID=America/New_York:20251121T140000
DTSTAMP:20260421T145130
CREATED:20250912T141313Z
LAST-MODIFIED:20250912T141335Z
UID:10000899-1763715600-1763733600@www.pba.edu
SUMMARY:Preview Day
DESCRIPTION:Ready To Be a PBA Sailfish For a Day?! \nPBA’s Preview Day is the best way to fully immerse yourself in the campus experience.\nStudents and Parents will have the opportunity to: \n\nTour the campus\nHear from our chapel band and campus pastor\nConnect with current students\, faculty\, and staff\nLearn more about the admissions and scholarship process\nLearn more about financial aid\, student services\, and so much more!\n\nRegister Here \n 
URL:https://www.pba.edu/event/preview-day-2/
LOCATION:Palm Beach Atlantic University\, 901 S Flagler Dr\, West Palm Beach\, FL 33401\, West Palm Beach\, 33401\, United States
CATEGORIES:Admissions
ATTACH;FMTTYPE=image/jpeg:https://www.pba.edu/wp-content/uploads/2023/06/people-female-individual-bright-fun-downtown-pba-palm-beach-atlantic-university-3-1200x800-1.jpg
END:VEVENT
END:VCALENDAR