BEGIN:VCALENDAR
VERSION:2.0
PRODID:-//PBA • Palm Beach Atlantic University - ECPv6.15.20//NONSGML v1.0//EN
CALSCALE:GREGORIAN
METHOD:PUBLISH
X-WR-CALNAME:PBA • Palm Beach Atlantic University
X-ORIGINAL-URL:https://www.pba.edu
X-WR-CALDESC:Events for PBA • Palm Beach Atlantic University
REFRESH-INTERVAL;VALUE=DURATION:PT1H
X-Robots-Tag:noindex
X-PUBLISHED-TTL:PT1H
BEGIN:VTIMEZONE
TZID:America/New_York
BEGIN:DAYLIGHT
TZOFFSETFROM:-0500
TZOFFSETTO:-0400
TZNAME:EDT
DTSTART:20230312T070000
END:DAYLIGHT
BEGIN:STANDARD
TZOFFSETFROM:-0400
TZOFFSETTO:-0500
TZNAME:EST
DTSTART:20231105T060000
END:STANDARD
BEGIN:DAYLIGHT
TZOFFSETFROM:-0500
TZOFFSETTO:-0400
TZNAME:EDT
DTSTART:20240310T070000
END:DAYLIGHT
BEGIN:STANDARD
TZOFFSETFROM:-0400
TZOFFSETTO:-0500
TZNAME:EST
DTSTART:20241103T060000
END:STANDARD
BEGIN:DAYLIGHT
TZOFFSETFROM:-0500
TZOFFSETTO:-0400
TZNAME:EDT
DTSTART:20250309T070000
END:DAYLIGHT
BEGIN:STANDARD
TZOFFSETFROM:-0400
TZOFFSETTO:-0500
TZNAME:EST
DTSTART:20251102T060000
END:STANDARD
END:VTIMEZONE
BEGIN:VEVENT
DTSTART;TZID=America/New_York:20241121T180000
DTEND;TZID=America/New_York:20241121T210000
DTSTAMP:20260422T073045
CREATED:20240911T162955Z
LAST-MODIFIED:20240911T162955Z
UID:10000740-1732212000-1732222800@www.pba.edu
SUMMARY:Honors Banquet
DESCRIPTION:Highly motivated\, academically talented students from all academic majors who participate in this community of scholars will enjoy the unique opportunity to learn about the distinct advantages of studying in the Frederick M. Supper Honors Program.  RSVP Required. \nRSVP Here \n  \n 
URL:https://www.pba.edu/event/honors-banquet-3/
LOCATION:Palm Beach Atlantic University 901 S Flagler Dr West Palm Bch FL\, 33401
CATEGORIES:Admissions
END:VEVENT
BEGIN:VEVENT
DTSTART;TZID=America/New_York:20241122T090000
DTEND;TZID=America/New_York:20241122T140000
DTSTAMP:20260422T073045
CREATED:20240911T164402Z
LAST-MODIFIED:20241002T162454Z
UID:10000742-1732266000-1732284000@www.pba.edu
SUMMARY:Preview Day
DESCRIPTION:Ready To Be a PBA Sailfish For a Day?! \nPBA’s Preview Day is the best way to fully immerse yourself in the campus experience.\nStudents and Parents will have the opportunity to: \n\nTour the campus\nHear from our chapel band and campus pastor\nConnect with current students\, faculty\, and staff\nLearn more about the admissions and scholarship process\nLearn more about financial aid\, student services\, and so much more!\n\nRegister Here \n 
URL:https://www.pba.edu/event/preview-day-9/
LOCATION:Palm Beach Atlantic University 901 S Flagler Dr West Palm Bch FL\, 33401
CATEGORIES:Admissions,Featured
ATTACH;FMTTYPE=image/jpeg:https://www.pba.edu/wp-content/uploads/2023/06/people-female-individual-bright-fun-downtown-pba-palm-beach-atlantic-university-3-1600x900-1.jpg
END:VEVENT
END:VCALENDAR