BEGIN:VCALENDAR
VERSION:2.0
PRODID:-//PBA • Palm Beach Atlantic University - ECPv6.15.20//NONSGML v1.0//EN
CALSCALE:GREGORIAN
METHOD:PUBLISH
X-WR-CALNAME:PBA • Palm Beach Atlantic University
X-ORIGINAL-URL:https://www.pba.edu
X-WR-CALDESC:Events for PBA • Palm Beach Atlantic University
REFRESH-INTERVAL;VALUE=DURATION:PT1H
X-Robots-Tag:noindex
X-PUBLISHED-TTL:PT1H
BEGIN:VTIMEZONE
TZID:America/New_York
BEGIN:DAYLIGHT
TZOFFSETFROM:-0500
TZOFFSETTO:-0400
TZNAME:EDT
DTSTART:20230312T070000
END:DAYLIGHT
BEGIN:STANDARD
TZOFFSETFROM:-0400
TZOFFSETTO:-0500
TZNAME:EST
DTSTART:20231105T060000
END:STANDARD
BEGIN:DAYLIGHT
TZOFFSETFROM:-0500
TZOFFSETTO:-0400
TZNAME:EDT
DTSTART:20240310T070000
END:DAYLIGHT
BEGIN:STANDARD
TZOFFSETFROM:-0400
TZOFFSETTO:-0500
TZNAME:EST
DTSTART:20241103T060000
END:STANDARD
BEGIN:DAYLIGHT
TZOFFSETFROM:-0500
TZOFFSETTO:-0400
TZNAME:EDT
DTSTART:20250309T070000
END:DAYLIGHT
BEGIN:STANDARD
TZOFFSETFROM:-0400
TZOFFSETTO:-0500
TZNAME:EST
DTSTART:20251102T060000
END:STANDARD
END:VTIMEZONE
BEGIN:VEVENT
DTSTART;TZID=America/New_York:20241113T170000
DTEND;TZID=America/New_York:20241113T180000
DTSTAMP:20260423T140743
CREATED:20240904T141525Z
LAST-MODIFIED:20240904T141525Z
UID:10000720-1731517200-1731520800@www.pba.edu
SUMMARY:BSN Pinning Ceremony
DESCRIPTION:This is the Pinning Ceremony for our Fall 2024 class of graduating nursing students.
URL:https://www.pba.edu/event/bsn-pinning-ceremony/
LOCATION:DeSantis Family Chapel\, 300 Okeechobee Blvd\, West Palm Beach\, FL\, United States
CATEGORIES:Academic Calendar
END:VEVENT
BEGIN:VEVENT
DTSTART;TZID=America/New_York:20241115T163000
DTEND;TZID=America/New_York:20241115T180000
DTSTAMP:20260423T140743
CREATED:20240916T173529Z
LAST-MODIFIED:20240916T173529Z
UID:10000743-1731688200-1731693600@www.pba.edu
SUMMARY:Sigma Theta Tau Nursing Induction Ceremony
DESCRIPTION:The School of Nursing will host their annual Sigma Theta Tau Honors Society Induction Ceremony for Undergraduate and Graduate nursing students.
URL:https://www.pba.edu/event/sigma-theta-tau-nursing-induction-ceremony/
LOCATION:Lassiter Rotunda\, Warren Library\, 300 Pembroke Pl\, West Palm Beach\, FL\, 33401\, United States
CATEGORIES:Academic Calendar,Featured,Parents & Families
END:VEVENT
BEGIN:VEVENT
DTSTART;VALUE=DATE:20241127
DTEND;VALUE=DATE:20241130
DTSTAMP:20260423T140743
CREATED:20241113T192452Z
LAST-MODIFIED:20241120T001212Z
UID:10000761-1732665600-1732924799@www.pba.edu
SUMMARY:Thanksgiving Holiday (no classes\, offices closed)
DESCRIPTION:
URL:https://www.pba.edu/event/thanksgiving-holiday-no-classes-offices-closed/
CATEGORIES:Academic Calendar
END:VEVENT
END:VCALENDAR