BEGIN:VCALENDAR
VERSION:2.0
PRODID:-//PBA • Palm Beach Atlantic University - ECPv6.15.20//NONSGML v1.0//EN
CALSCALE:GREGORIAN
METHOD:PUBLISH
X-WR-CALNAME:PBA • Palm Beach Atlantic University
X-ORIGINAL-URL:https://www.pba.edu
X-WR-CALDESC:Events for PBA • Palm Beach Atlantic University
REFRESH-INTERVAL;VALUE=DURATION:PT1H
X-Robots-Tag:noindex
X-PUBLISHED-TTL:PT1H
BEGIN:VTIMEZONE
TZID:America/New_York
BEGIN:DAYLIGHT
TZOFFSETFROM:-0500
TZOFFSETTO:-0400
TZNAME:EDT
DTSTART:20240310T070000
END:DAYLIGHT
BEGIN:STANDARD
TZOFFSETFROM:-0400
TZOFFSETTO:-0500
TZNAME:EST
DTSTART:20241103T060000
END:STANDARD
BEGIN:DAYLIGHT
TZOFFSETFROM:-0500
TZOFFSETTO:-0400
TZNAME:EDT
DTSTART:20250309T070000
END:DAYLIGHT
BEGIN:STANDARD
TZOFFSETFROM:-0400
TZOFFSETTO:-0500
TZNAME:EST
DTSTART:20251102T060000
END:STANDARD
BEGIN:DAYLIGHT
TZOFFSETFROM:-0500
TZOFFSETTO:-0400
TZNAME:EDT
DTSTART:20260308T070000
END:DAYLIGHT
BEGIN:STANDARD
TZOFFSETFROM:-0400
TZOFFSETTO:-0500
TZNAME:EST
DTSTART:20261101T060000
END:STANDARD
END:VTIMEZONE
BEGIN:VEVENT
DTSTART;TZID=America/New_York:20250220T180000
DTEND;TZID=America/New_York:20250418T193000
DTSTAMP:20260423T180829
CREATED:20250205T152513Z
LAST-MODIFIED:20250205T152513Z
UID:10000831-1740074400-1745004600@www.pba.edu
SUMMARY:Sarah Baker and Sam + Sarah Constanzo
DESCRIPTION:Co-curated with John Loscuito\, Wasmer Gallery of Art\, Florida Gulf Coast University. \nReception: February 20\, 6-7:30 pm
URL:https://www.pba.edu/event/sarah-baker-and-sam-sarah-constanzo/
LOCATION:Tauni de Lesseps Art Gallery\, Warren Library\, 300 Pembroke P\, West Palm Beach\, FL\, 33401\, United States
CATEGORIES:Performances
ORGANIZER;CN="PBA College of the Arts":MAILTO:ticket_central@pba.edu
END:VEVENT
BEGIN:VEVENT
DTSTART;VALUE=DATE:20250325
DTEND;VALUE=DATE:20250327
DTSTAMP:20260423T180829
CREATED:20250317T160852Z
LAST-MODIFIED:20250317T160852Z
UID:10000841-1742860800-1743033599@www.pba.edu
SUMMARY:Interdisciplinary Research Conference
DESCRIPTION:
URL:https://www.pba.edu/event/interdisciplinary-research-conference/
CATEGORIES:Featured
END:VEVENT
BEGIN:VEVENT
DTSTART;TZID=America/New_York:20250326T180000
DTEND;TZID=America/New_York:20250326T193000
DTSTAMP:20260423T180829
CREATED:20250304T220026Z
LAST-MODIFIED:20250911T164910Z
UID:10000837-1743012000-1743017400@www.pba.edu
SUMMARY:Rinker College of Business Speaker: Jason Riley
DESCRIPTION:Please join us for a conversation with Jason Riley\, a senior fellow at the Manhattan Institute and a columnist for the Wall Street Journal where he has written about politics\, economics\, education\, immigration and social inequality for more than 25 years. He is the author of five books\, including the forthcoming ‘The Affirmative Action Myth: Why Black Don’t Need Racial Preferences to Succeed’. \nRegister Here
URL:https://www.pba.edu/event/speaker-jason-riley/
LOCATION:DeSantis Chapel
ATTACH;FMTTYPE=image/jpeg:https://www.pba.edu/wp-content/uploads/2025/03/HeadshotJasonRiley-scaled-e1741382162155.jpg
END:VEVENT
END:VCALENDAR